BEGIN:VCALENDAR
VERSION:2.0
PRODID:-//Männernetzwerk Dresden e. V. - ECPv6.15.20//NONSGML v1.0//EN
CALSCALE:GREGORIAN
METHOD:PUBLISH
X-WR-CALNAME:Männernetzwerk Dresden e. V.
X-ORIGINAL-URL:https://mnw-dd.de
X-WR-CALDESC:Veranstaltungen für Männernetzwerk Dresden e. V.
REFRESH-INTERVAL;VALUE=DURATION:PT1H
X-Robots-Tag:noindex
X-PUBLISHED-TTL:PT1H
BEGIN:VTIMEZONE
TZID:Europe/Berlin
BEGIN:DAYLIGHT
TZOFFSETFROM:+0100
TZOFFSETTO:+0200
TZNAME:CEST
DTSTART:20250330T010000
END:DAYLIGHT
BEGIN:STANDARD
TZOFFSETFROM:+0200
TZOFFSETTO:+0100
TZNAME:CET
DTSTART:20251026T010000
END:STANDARD
BEGIN:DAYLIGHT
TZOFFSETFROM:+0100
TZOFFSETTO:+0200
TZNAME:CEST
DTSTART:20260329T010000
END:DAYLIGHT
BEGIN:STANDARD
TZOFFSETFROM:+0200
TZOFFSETTO:+0100
TZNAME:CET
DTSTART:20261025T010000
END:STANDARD
BEGIN:DAYLIGHT
TZOFFSETFROM:+0100
TZOFFSETTO:+0200
TZNAME:CEST
DTSTART:20270328T010000
END:DAYLIGHT
BEGIN:STANDARD
TZOFFSETFROM:+0200
TZOFFSETTO:+0100
TZNAME:CET
DTSTART:20271031T010000
END:STANDARD
BEGIN:DAYLIGHT
TZOFFSETFROM:+0100
TZOFFSETTO:+0200
TZNAME:CEST
DTSTART:20280326T010000
END:DAYLIGHT
BEGIN:STANDARD
TZOFFSETFROM:+0200
TZOFFSETTO:+0100
TZNAME:CET
DTSTART:20281029T010000
END:STANDARD
BEGIN:DAYLIGHT
TZOFFSETFROM:+0100
TZOFFSETTO:+0200
TZNAME:CEST
DTSTART:20290325T010000
END:DAYLIGHT
BEGIN:STANDARD
TZOFFSETFROM:+0200
TZOFFSETTO:+0100
TZNAME:CET
DTSTART:20291028T010000
END:STANDARD
END:VTIMEZONE
BEGIN:VEVENT
DTSTART;TZID=Europe/Berlin:20260521T080000
DTEND;TZID=Europe/Berlin:20260521T170000
DTSTAMP:20260423T174728
CREATED:20240920T125552Z
LAST-MODIFIED:20240920T140751Z
UID:10004297-1779350400-1779382800@mnw-dd.de
SUMMARY:Männerfrühstücks(g|k)reis
DESCRIPTION:jeden 3. Donnerstag im Monat 9:30 Uhr im MNW \nWir\, Männer\, die sich mit dem Alter(n) beschäftigen wollen\, treffen uns zum persönlichen und thematischen Austausch in einer selbstgestalteten Frühstücksrunde. Es werden Anregungen und Impulse für ein würdevolles und lebendiges Älterwerden gegeben. \nWenn möglich bitte anmelden senioren@mnw-dd.de
URL:https://mnw-dd.de/termin/maennerfruehstuecksgkreis/2026-05-21
CATEGORIES:Seniorenarbeit
END:VEVENT
BEGIN:VEVENT
DTSTART;TZID=Europe/Berlin:20260618T080000
DTEND;TZID=Europe/Berlin:20260618T170000
DTSTAMP:20260423T174728
CREATED:20240920T125552Z
LAST-MODIFIED:20240920T140751Z
UID:10004298-1781769600-1781802000@mnw-dd.de
SUMMARY:Männerfrühstücks(g|k)reis
DESCRIPTION:jeden 3. Donnerstag im Monat 9:30 Uhr im MNW \nWir\, Männer\, die sich mit dem Alter(n) beschäftigen wollen\, treffen uns zum persönlichen und thematischen Austausch in einer selbstgestalteten Frühstücksrunde. Es werden Anregungen und Impulse für ein würdevolles und lebendiges Älterwerden gegeben. \nWenn möglich bitte anmelden senioren@mnw-dd.de
URL:https://mnw-dd.de/termin/maennerfruehstuecksgkreis/2026-06-18
CATEGORIES:Seniorenarbeit
END:VEVENT
BEGIN:VEVENT
DTSTART;TZID=Europe/Berlin:20260716T080000
DTEND;TZID=Europe/Berlin:20260716T170000
DTSTAMP:20260423T174728
CREATED:20240920T125552Z
LAST-MODIFIED:20240920T140751Z
UID:10004299-1784188800-1784221200@mnw-dd.de
SUMMARY:Männerfrühstücks(g|k)reis
DESCRIPTION:jeden 3. Donnerstag im Monat 9:30 Uhr im MNW \nWir\, Männer\, die sich mit dem Alter(n) beschäftigen wollen\, treffen uns zum persönlichen und thematischen Austausch in einer selbstgestalteten Frühstücksrunde. Es werden Anregungen und Impulse für ein würdevolles und lebendiges Älterwerden gegeben. \nWenn möglich bitte anmelden senioren@mnw-dd.de
URL:https://mnw-dd.de/termin/maennerfruehstuecksgkreis/2026-07-16
CATEGORIES:Seniorenarbeit
END:VEVENT
BEGIN:VEVENT
DTSTART;TZID=Europe/Berlin:20260820T080000
DTEND;TZID=Europe/Berlin:20260820T170000
DTSTAMP:20260423T174728
CREATED:20240920T125552Z
LAST-MODIFIED:20240920T140751Z
UID:10004300-1787212800-1787245200@mnw-dd.de
SUMMARY:Männerfrühstücks(g|k)reis
DESCRIPTION:jeden 3. Donnerstag im Monat 9:30 Uhr im MNW \nWir\, Männer\, die sich mit dem Alter(n) beschäftigen wollen\, treffen uns zum persönlichen und thematischen Austausch in einer selbstgestalteten Frühstücksrunde. Es werden Anregungen und Impulse für ein würdevolles und lebendiges Älterwerden gegeben. \nWenn möglich bitte anmelden senioren@mnw-dd.de
URL:https://mnw-dd.de/termin/maennerfruehstuecksgkreis/2026-08-20
CATEGORIES:Seniorenarbeit
END:VEVENT
BEGIN:VEVENT
DTSTART;TZID=Europe/Berlin:20260917T080000
DTEND;TZID=Europe/Berlin:20260917T170000
DTSTAMP:20260423T174728
CREATED:20240920T125552Z
LAST-MODIFIED:20240920T140751Z
UID:10004301-1789632000-1789664400@mnw-dd.de
SUMMARY:Männerfrühstücks(g|k)reis
DESCRIPTION:jeden 3. Donnerstag im Monat 9:30 Uhr im MNW \nWir\, Männer\, die sich mit dem Alter(n) beschäftigen wollen\, treffen uns zum persönlichen und thematischen Austausch in einer selbstgestalteten Frühstücksrunde. Es werden Anregungen und Impulse für ein würdevolles und lebendiges Älterwerden gegeben. \nWenn möglich bitte anmelden senioren@mnw-dd.de
URL:https://mnw-dd.de/termin/maennerfruehstuecksgkreis/2026-09-17
CATEGORIES:Seniorenarbeit
END:VEVENT
BEGIN:VEVENT
DTSTART;TZID=Europe/Berlin:20261015T080000
DTEND;TZID=Europe/Berlin:20261015T170000
DTSTAMP:20260423T174728
CREATED:20240920T125552Z
LAST-MODIFIED:20240920T140751Z
UID:10004302-1792051200-1792083600@mnw-dd.de
SUMMARY:Männerfrühstücks(g|k)reis
DESCRIPTION:jeden 3. Donnerstag im Monat 9:30 Uhr im MNW \nWir\, Männer\, die sich mit dem Alter(n) beschäftigen wollen\, treffen uns zum persönlichen und thematischen Austausch in einer selbstgestalteten Frühstücksrunde. Es werden Anregungen und Impulse für ein würdevolles und lebendiges Älterwerden gegeben. \nWenn möglich bitte anmelden senioren@mnw-dd.de
URL:https://mnw-dd.de/termin/maennerfruehstuecksgkreis/2026-10-15
CATEGORIES:Seniorenarbeit
END:VEVENT
BEGIN:VEVENT
DTSTART;TZID=Europe/Berlin:20261119T080000
DTEND;TZID=Europe/Berlin:20261119T170000
DTSTAMP:20260423T174728
CREATED:20240920T125552Z
LAST-MODIFIED:20240920T140751Z
UID:10004303-1795075200-1795107600@mnw-dd.de
SUMMARY:Männerfrühstücks(g|k)reis
DESCRIPTION:jeden 3. Donnerstag im Monat 9:30 Uhr im MNW \nWir\, Männer\, die sich mit dem Alter(n) beschäftigen wollen\, treffen uns zum persönlichen und thematischen Austausch in einer selbstgestalteten Frühstücksrunde. Es werden Anregungen und Impulse für ein würdevolles und lebendiges Älterwerden gegeben. \nWenn möglich bitte anmelden senioren@mnw-dd.de
URL:https://mnw-dd.de/termin/maennerfruehstuecksgkreis/2026-11-19
CATEGORIES:Seniorenarbeit
END:VEVENT
BEGIN:VEVENT
DTSTART;TZID=Europe/Berlin:20261217T080000
DTEND;TZID=Europe/Berlin:20261217T170000
DTSTAMP:20260423T174728
CREATED:20240920T125552Z
LAST-MODIFIED:20240920T140751Z
UID:10004304-1797494400-1797526800@mnw-dd.de
SUMMARY:Männerfrühstücks(g|k)reis
DESCRIPTION:jeden 3. Donnerstag im Monat 9:30 Uhr im MNW \nWir\, Männer\, die sich mit dem Alter(n) beschäftigen wollen\, treffen uns zum persönlichen und thematischen Austausch in einer selbstgestalteten Frühstücksrunde. Es werden Anregungen und Impulse für ein würdevolles und lebendiges Älterwerden gegeben. \nWenn möglich bitte anmelden senioren@mnw-dd.de
URL:https://mnw-dd.de/termin/maennerfruehstuecksgkreis/2026-12-17
CATEGORIES:Seniorenarbeit
END:VEVENT
BEGIN:VEVENT
DTSTART;TZID=Europe/Berlin:20270121T080000
DTEND;TZID=Europe/Berlin:20270121T170000
DTSTAMP:20260423T174728
CREATED:20240920T125552Z
LAST-MODIFIED:20240920T140751Z
UID:10004305-1800518400-1800550800@mnw-dd.de
SUMMARY:Männerfrühstücks(g|k)reis
DESCRIPTION:jeden 3. Donnerstag im Monat 9:30 Uhr im MNW \nWir\, Männer\, die sich mit dem Alter(n) beschäftigen wollen\, treffen uns zum persönlichen und thematischen Austausch in einer selbstgestalteten Frühstücksrunde. Es werden Anregungen und Impulse für ein würdevolles und lebendiges Älterwerden gegeben. \nWenn möglich bitte anmelden senioren@mnw-dd.de
URL:https://mnw-dd.de/termin/maennerfruehstuecksgkreis/2027-01-21
CATEGORIES:Seniorenarbeit
END:VEVENT
BEGIN:VEVENT
DTSTART;TZID=Europe/Berlin:20270218T080000
DTEND;TZID=Europe/Berlin:20270218T170000
DTSTAMP:20260423T174728
CREATED:20240920T125552Z
LAST-MODIFIED:20240920T140751Z
UID:10004306-1802937600-1802970000@mnw-dd.de
SUMMARY:Männerfrühstücks(g|k)reis
DESCRIPTION:jeden 3. Donnerstag im Monat 9:30 Uhr im MNW \nWir\, Männer\, die sich mit dem Alter(n) beschäftigen wollen\, treffen uns zum persönlichen und thematischen Austausch in einer selbstgestalteten Frühstücksrunde. Es werden Anregungen und Impulse für ein würdevolles und lebendiges Älterwerden gegeben. \nWenn möglich bitte anmelden senioren@mnw-dd.de
URL:https://mnw-dd.de/termin/maennerfruehstuecksgkreis/2027-02-18
CATEGORIES:Seniorenarbeit
END:VEVENT
BEGIN:VEVENT
DTSTART;TZID=Europe/Berlin:20270318T080000
DTEND;TZID=Europe/Berlin:20270318T170000
DTSTAMP:20260423T174728
CREATED:20240920T125552Z
LAST-MODIFIED:20240920T140751Z
UID:10004307-1805356800-1805389200@mnw-dd.de
SUMMARY:Männerfrühstücks(g|k)reis
DESCRIPTION:jeden 3. Donnerstag im Monat 9:30 Uhr im MNW \nWir\, Männer\, die sich mit dem Alter(n) beschäftigen wollen\, treffen uns zum persönlichen und thematischen Austausch in einer selbstgestalteten Frühstücksrunde. Es werden Anregungen und Impulse für ein würdevolles und lebendiges Älterwerden gegeben. \nWenn möglich bitte anmelden senioren@mnw-dd.de
URL:https://mnw-dd.de/termin/maennerfruehstuecksgkreis/2027-03-18
CATEGORIES:Seniorenarbeit
END:VEVENT
BEGIN:VEVENT
DTSTART;TZID=Europe/Berlin:20270415T080000
DTEND;TZID=Europe/Berlin:20270415T170000
DTSTAMP:20260423T174728
CREATED:20240920T125552Z
LAST-MODIFIED:20240920T140751Z
UID:10004308-1807776000-1807808400@mnw-dd.de
SUMMARY:Männerfrühstücks(g|k)reis
DESCRIPTION:jeden 3. Donnerstag im Monat 9:30 Uhr im MNW \nWir\, Männer\, die sich mit dem Alter(n) beschäftigen wollen\, treffen uns zum persönlichen und thematischen Austausch in einer selbstgestalteten Frühstücksrunde. Es werden Anregungen und Impulse für ein würdevolles und lebendiges Älterwerden gegeben. \nWenn möglich bitte anmelden senioren@mnw-dd.de
URL:https://mnw-dd.de/termin/maennerfruehstuecksgkreis/2027-04-15
CATEGORIES:Seniorenarbeit
END:VEVENT
BEGIN:VEVENT
DTSTART;TZID=Europe/Berlin:20270520T080000
DTEND;TZID=Europe/Berlin:20270520T170000
DTSTAMP:20260423T174728
CREATED:20240920T125552Z
LAST-MODIFIED:20240920T140751Z
UID:10004309-1810800000-1810832400@mnw-dd.de
SUMMARY:Männerfrühstücks(g|k)reis
DESCRIPTION:jeden 3. Donnerstag im Monat 9:30 Uhr im MNW \nWir\, Männer\, die sich mit dem Alter(n) beschäftigen wollen\, treffen uns zum persönlichen und thematischen Austausch in einer selbstgestalteten Frühstücksrunde. Es werden Anregungen und Impulse für ein würdevolles und lebendiges Älterwerden gegeben. \nWenn möglich bitte anmelden senioren@mnw-dd.de
URL:https://mnw-dd.de/termin/maennerfruehstuecksgkreis/2027-05-20
CATEGORIES:Seniorenarbeit
END:VEVENT
BEGIN:VEVENT
DTSTART;TZID=Europe/Berlin:20270617T080000
DTEND;TZID=Europe/Berlin:20270617T170000
DTSTAMP:20260423T174728
CREATED:20240920T125552Z
LAST-MODIFIED:20240920T140751Z
UID:10004310-1813219200-1813251600@mnw-dd.de
SUMMARY:Männerfrühstücks(g|k)reis
DESCRIPTION:jeden 3. Donnerstag im Monat 9:30 Uhr im MNW \nWir\, Männer\, die sich mit dem Alter(n) beschäftigen wollen\, treffen uns zum persönlichen und thematischen Austausch in einer selbstgestalteten Frühstücksrunde. Es werden Anregungen und Impulse für ein würdevolles und lebendiges Älterwerden gegeben. \nWenn möglich bitte anmelden senioren@mnw-dd.de
URL:https://mnw-dd.de/termin/maennerfruehstuecksgkreis/2027-06-17
CATEGORIES:Seniorenarbeit
END:VEVENT
BEGIN:VEVENT
DTSTART;TZID=Europe/Berlin:20270715T080000
DTEND;TZID=Europe/Berlin:20270715T170000
DTSTAMP:20260423T174728
CREATED:20240920T125552Z
LAST-MODIFIED:20240920T140751Z
UID:10004311-1815638400-1815670800@mnw-dd.de
SUMMARY:Männerfrühstücks(g|k)reis
DESCRIPTION:jeden 3. Donnerstag im Monat 9:30 Uhr im MNW \nWir\, Männer\, die sich mit dem Alter(n) beschäftigen wollen\, treffen uns zum persönlichen und thematischen Austausch in einer selbstgestalteten Frühstücksrunde. Es werden Anregungen und Impulse für ein würdevolles und lebendiges Älterwerden gegeben. \nWenn möglich bitte anmelden senioren@mnw-dd.de
URL:https://mnw-dd.de/termin/maennerfruehstuecksgkreis/2027-07-15
CATEGORIES:Seniorenarbeit
END:VEVENT
BEGIN:VEVENT
DTSTART;TZID=Europe/Berlin:20270819T080000
DTEND;TZID=Europe/Berlin:20270819T170000
DTSTAMP:20260423T174728
CREATED:20240920T125552Z
LAST-MODIFIED:20240920T140751Z
UID:10004312-1818662400-1818694800@mnw-dd.de
SUMMARY:Männerfrühstücks(g|k)reis
DESCRIPTION:jeden 3. Donnerstag im Monat 9:30 Uhr im MNW \nWir\, Männer\, die sich mit dem Alter(n) beschäftigen wollen\, treffen uns zum persönlichen und thematischen Austausch in einer selbstgestalteten Frühstücksrunde. Es werden Anregungen und Impulse für ein würdevolles und lebendiges Älterwerden gegeben. \nWenn möglich bitte anmelden senioren@mnw-dd.de
URL:https://mnw-dd.de/termin/maennerfruehstuecksgkreis/2027-08-19
CATEGORIES:Seniorenarbeit
END:VEVENT
BEGIN:VEVENT
DTSTART;TZID=Europe/Berlin:20270916T080000
DTEND;TZID=Europe/Berlin:20270916T170000
DTSTAMP:20260423T174728
CREATED:20240920T125552Z
LAST-MODIFIED:20240920T140751Z
UID:10004313-1821081600-1821114000@mnw-dd.de
SUMMARY:Männerfrühstücks(g|k)reis
DESCRIPTION:jeden 3. Donnerstag im Monat 9:30 Uhr im MNW \nWir\, Männer\, die sich mit dem Alter(n) beschäftigen wollen\, treffen uns zum persönlichen und thematischen Austausch in einer selbstgestalteten Frühstücksrunde. Es werden Anregungen und Impulse für ein würdevolles und lebendiges Älterwerden gegeben. \nWenn möglich bitte anmelden senioren@mnw-dd.de
URL:https://mnw-dd.de/termin/maennerfruehstuecksgkreis/2027-09-16
CATEGORIES:Seniorenarbeit
END:VEVENT
BEGIN:VEVENT
DTSTART;TZID=Europe/Berlin:20271021T080000
DTEND;TZID=Europe/Berlin:20271021T170000
DTSTAMP:20260423T174728
CREATED:20240920T125552Z
LAST-MODIFIED:20240920T140751Z
UID:10004314-1824105600-1824138000@mnw-dd.de
SUMMARY:Männerfrühstücks(g|k)reis
DESCRIPTION:jeden 3. Donnerstag im Monat 9:30 Uhr im MNW \nWir\, Männer\, die sich mit dem Alter(n) beschäftigen wollen\, treffen uns zum persönlichen und thematischen Austausch in einer selbstgestalteten Frühstücksrunde. Es werden Anregungen und Impulse für ein würdevolles und lebendiges Älterwerden gegeben. \nWenn möglich bitte anmelden senioren@mnw-dd.de
URL:https://mnw-dd.de/termin/maennerfruehstuecksgkreis/2027-10-21
CATEGORIES:Seniorenarbeit
END:VEVENT
BEGIN:VEVENT
DTSTART;TZID=Europe/Berlin:20271118T080000
DTEND;TZID=Europe/Berlin:20271118T170000
DTSTAMP:20260423T174728
CREATED:20240920T125552Z
LAST-MODIFIED:20240920T140751Z
UID:10004315-1826524800-1826557200@mnw-dd.de
SUMMARY:Männerfrühstücks(g|k)reis
DESCRIPTION:jeden 3. Donnerstag im Monat 9:30 Uhr im MNW \nWir\, Männer\, die sich mit dem Alter(n) beschäftigen wollen\, treffen uns zum persönlichen und thematischen Austausch in einer selbstgestalteten Frühstücksrunde. Es werden Anregungen und Impulse für ein würdevolles und lebendiges Älterwerden gegeben. \nWenn möglich bitte anmelden senioren@mnw-dd.de
URL:https://mnw-dd.de/termin/maennerfruehstuecksgkreis/2027-11-18
CATEGORIES:Seniorenarbeit
END:VEVENT
BEGIN:VEVENT
DTSTART;TZID=Europe/Berlin:20271216T080000
DTEND;TZID=Europe/Berlin:20271216T170000
DTSTAMP:20260423T174728
CREATED:20240920T125552Z
LAST-MODIFIED:20240920T140751Z
UID:10004316-1828944000-1828976400@mnw-dd.de
SUMMARY:Männerfrühstücks(g|k)reis
DESCRIPTION:jeden 3. Donnerstag im Monat 9:30 Uhr im MNW \nWir\, Männer\, die sich mit dem Alter(n) beschäftigen wollen\, treffen uns zum persönlichen und thematischen Austausch in einer selbstgestalteten Frühstücksrunde. Es werden Anregungen und Impulse für ein würdevolles und lebendiges Älterwerden gegeben. \nWenn möglich bitte anmelden senioren@mnw-dd.de
URL:https://mnw-dd.de/termin/maennerfruehstuecksgkreis/2027-12-16
CATEGORIES:Seniorenarbeit
END:VEVENT
BEGIN:VEVENT
DTSTART;TZID=Europe/Berlin:20280120T080000
DTEND;TZID=Europe/Berlin:20280120T170000
DTSTAMP:20260423T174728
CREATED:20240920T125552Z
LAST-MODIFIED:20240920T140751Z
UID:10004317-1831968000-1832000400@mnw-dd.de
SUMMARY:Männerfrühstücks(g|k)reis
DESCRIPTION:jeden 3. Donnerstag im Monat 9:30 Uhr im MNW \nWir\, Männer\, die sich mit dem Alter(n) beschäftigen wollen\, treffen uns zum persönlichen und thematischen Austausch in einer selbstgestalteten Frühstücksrunde. Es werden Anregungen und Impulse für ein würdevolles und lebendiges Älterwerden gegeben. \nWenn möglich bitte anmelden senioren@mnw-dd.de
URL:https://mnw-dd.de/termin/maennerfruehstuecksgkreis/2028-01-20
CATEGORIES:Seniorenarbeit
END:VEVENT
BEGIN:VEVENT
DTSTART;TZID=Europe/Berlin:20280217T080000
DTEND;TZID=Europe/Berlin:20280217T170000
DTSTAMP:20260423T174728
CREATED:20240920T125552Z
LAST-MODIFIED:20240920T140751Z
UID:10004318-1834387200-1834419600@mnw-dd.de
SUMMARY:Männerfrühstücks(g|k)reis
DESCRIPTION:jeden 3. Donnerstag im Monat 9:30 Uhr im MNW \nWir\, Männer\, die sich mit dem Alter(n) beschäftigen wollen\, treffen uns zum persönlichen und thematischen Austausch in einer selbstgestalteten Frühstücksrunde. Es werden Anregungen und Impulse für ein würdevolles und lebendiges Älterwerden gegeben. \nWenn möglich bitte anmelden senioren@mnw-dd.de
URL:https://mnw-dd.de/termin/maennerfruehstuecksgkreis/2028-02-17
CATEGORIES:Seniorenarbeit
END:VEVENT
BEGIN:VEVENT
DTSTART;TZID=Europe/Berlin:20280316T080000
DTEND;TZID=Europe/Berlin:20280316T170000
DTSTAMP:20260423T174729
CREATED:20240920T125552Z
LAST-MODIFIED:20240920T140751Z
UID:10004319-1836806400-1836838800@mnw-dd.de
SUMMARY:Männerfrühstücks(g|k)reis
DESCRIPTION:jeden 3. Donnerstag im Monat 9:30 Uhr im MNW \nWir\, Männer\, die sich mit dem Alter(n) beschäftigen wollen\, treffen uns zum persönlichen und thematischen Austausch in einer selbstgestalteten Frühstücksrunde. Es werden Anregungen und Impulse für ein würdevolles und lebendiges Älterwerden gegeben. \nWenn möglich bitte anmelden senioren@mnw-dd.de
URL:https://mnw-dd.de/termin/maennerfruehstuecksgkreis/2028-03-16
CATEGORIES:Seniorenarbeit
END:VEVENT
BEGIN:VEVENT
DTSTART;TZID=Europe/Berlin:20280420T080000
DTEND;TZID=Europe/Berlin:20280420T170000
DTSTAMP:20260423T174729
CREATED:20240920T125552Z
LAST-MODIFIED:20240920T140751Z
UID:10004320-1839830400-1839862800@mnw-dd.de
SUMMARY:Männerfrühstücks(g|k)reis
DESCRIPTION:jeden 3. Donnerstag im Monat 9:30 Uhr im MNW \nWir\, Männer\, die sich mit dem Alter(n) beschäftigen wollen\, treffen uns zum persönlichen und thematischen Austausch in einer selbstgestalteten Frühstücksrunde. Es werden Anregungen und Impulse für ein würdevolles und lebendiges Älterwerden gegeben. \nWenn möglich bitte anmelden senioren@mnw-dd.de
URL:https://mnw-dd.de/termin/maennerfruehstuecksgkreis/2028-04-20
CATEGORIES:Seniorenarbeit
END:VEVENT
BEGIN:VEVENT
DTSTART;TZID=Europe/Berlin:20280518T080000
DTEND;TZID=Europe/Berlin:20280518T170000
DTSTAMP:20260423T174729
CREATED:20240920T125552Z
LAST-MODIFIED:20240920T140751Z
UID:10004321-1842249600-1842282000@mnw-dd.de
SUMMARY:Männerfrühstücks(g|k)reis
DESCRIPTION:jeden 3. Donnerstag im Monat 9:30 Uhr im MNW \nWir\, Männer\, die sich mit dem Alter(n) beschäftigen wollen\, treffen uns zum persönlichen und thematischen Austausch in einer selbstgestalteten Frühstücksrunde. Es werden Anregungen und Impulse für ein würdevolles und lebendiges Älterwerden gegeben. \nWenn möglich bitte anmelden senioren@mnw-dd.de
URL:https://mnw-dd.de/termin/maennerfruehstuecksgkreis/2028-05-18
CATEGORIES:Seniorenarbeit
END:VEVENT
BEGIN:VEVENT
DTSTART;TZID=Europe/Berlin:20280615T080000
DTEND;TZID=Europe/Berlin:20280615T170000
DTSTAMP:20260423T174729
CREATED:20240920T125552Z
LAST-MODIFIED:20240920T140751Z
UID:10004322-1844668800-1844701200@mnw-dd.de
SUMMARY:Männerfrühstücks(g|k)reis
DESCRIPTION:jeden 3. Donnerstag im Monat 9:30 Uhr im MNW \nWir\, Männer\, die sich mit dem Alter(n) beschäftigen wollen\, treffen uns zum persönlichen und thematischen Austausch in einer selbstgestalteten Frühstücksrunde. Es werden Anregungen und Impulse für ein würdevolles und lebendiges Älterwerden gegeben. \nWenn möglich bitte anmelden senioren@mnw-dd.de
URL:https://mnw-dd.de/termin/maennerfruehstuecksgkreis/2028-06-15
CATEGORIES:Seniorenarbeit
END:VEVENT
BEGIN:VEVENT
DTSTART;TZID=Europe/Berlin:20280720T080000
DTEND;TZID=Europe/Berlin:20280720T170000
DTSTAMP:20260423T174729
CREATED:20240920T125552Z
LAST-MODIFIED:20240920T140751Z
UID:10004323-1847692800-1847725200@mnw-dd.de
SUMMARY:Männerfrühstücks(g|k)reis
DESCRIPTION:jeden 3. Donnerstag im Monat 9:30 Uhr im MNW \nWir\, Männer\, die sich mit dem Alter(n) beschäftigen wollen\, treffen uns zum persönlichen und thematischen Austausch in einer selbstgestalteten Frühstücksrunde. Es werden Anregungen und Impulse für ein würdevolles und lebendiges Älterwerden gegeben. \nWenn möglich bitte anmelden senioren@mnw-dd.de
URL:https://mnw-dd.de/termin/maennerfruehstuecksgkreis/2028-07-20
CATEGORIES:Seniorenarbeit
END:VEVENT
BEGIN:VEVENT
DTSTART;TZID=Europe/Berlin:20280817T080000
DTEND;TZID=Europe/Berlin:20280817T170000
DTSTAMP:20260423T174729
CREATED:20240920T125552Z
LAST-MODIFIED:20240920T140751Z
UID:10004324-1850112000-1850144400@mnw-dd.de
SUMMARY:Männerfrühstücks(g|k)reis
DESCRIPTION:jeden 3. Donnerstag im Monat 9:30 Uhr im MNW \nWir\, Männer\, die sich mit dem Alter(n) beschäftigen wollen\, treffen uns zum persönlichen und thematischen Austausch in einer selbstgestalteten Frühstücksrunde. Es werden Anregungen und Impulse für ein würdevolles und lebendiges Älterwerden gegeben. \nWenn möglich bitte anmelden senioren@mnw-dd.de
URL:https://mnw-dd.de/termin/maennerfruehstuecksgkreis/2028-08-17
CATEGORIES:Seniorenarbeit
END:VEVENT
BEGIN:VEVENT
DTSTART;TZID=Europe/Berlin:20280921T080000
DTEND;TZID=Europe/Berlin:20280921T170000
DTSTAMP:20260423T174729
CREATED:20240920T125552Z
LAST-MODIFIED:20240920T140751Z
UID:10004325-1853136000-1853168400@mnw-dd.de
SUMMARY:Männerfrühstücks(g|k)reis
DESCRIPTION:jeden 3. Donnerstag im Monat 9:30 Uhr im MNW \nWir\, Männer\, die sich mit dem Alter(n) beschäftigen wollen\, treffen uns zum persönlichen und thematischen Austausch in einer selbstgestalteten Frühstücksrunde. Es werden Anregungen und Impulse für ein würdevolles und lebendiges Älterwerden gegeben. \nWenn möglich bitte anmelden senioren@mnw-dd.de
URL:https://mnw-dd.de/termin/maennerfruehstuecksgkreis/2028-09-21
CATEGORIES:Seniorenarbeit
END:VEVENT
BEGIN:VEVENT
DTSTART;TZID=Europe/Berlin:20281019T080000
DTEND;TZID=Europe/Berlin:20281019T170000
DTSTAMP:20260423T174729
CREATED:20240920T125552Z
LAST-MODIFIED:20240920T140751Z
UID:10004326-1855555200-1855587600@mnw-dd.de
SUMMARY:Männerfrühstücks(g|k)reis
DESCRIPTION:jeden 3. Donnerstag im Monat 9:30 Uhr im MNW \nWir\, Männer\, die sich mit dem Alter(n) beschäftigen wollen\, treffen uns zum persönlichen und thematischen Austausch in einer selbstgestalteten Frühstücksrunde. Es werden Anregungen und Impulse für ein würdevolles und lebendiges Älterwerden gegeben. \nWenn möglich bitte anmelden senioren@mnw-dd.de
URL:https://mnw-dd.de/termin/maennerfruehstuecksgkreis/2028-10-19
CATEGORIES:Seniorenarbeit
END:VEVENT
END:VCALENDAR