BEGIN:VCALENDAR
VERSION:2.0
PRODID:-//Männernetzwerk Dresden e. V. - ECPv6.15.20//NONSGML v1.0//EN
CALSCALE:GREGORIAN
METHOD:PUBLISH
X-WR-CALNAME:Männernetzwerk Dresden e. V.
X-ORIGINAL-URL:https://mnw-dd.de
X-WR-CALDESC:Veranstaltungen für Männernetzwerk Dresden e. V.
REFRESH-INTERVAL;VALUE=DURATION:PT1H
X-Robots-Tag:noindex
X-PUBLISHED-TTL:PT1H
BEGIN:VTIMEZONE
TZID:Europe/Berlin
BEGIN:DAYLIGHT
TZOFFSETFROM:+0100
TZOFFSETTO:+0200
TZNAME:CEST
DTSTART:20250330T010000
END:DAYLIGHT
BEGIN:STANDARD
TZOFFSETFROM:+0200
TZOFFSETTO:+0100
TZNAME:CET
DTSTART:20251026T010000
END:STANDARD
BEGIN:DAYLIGHT
TZOFFSETFROM:+0100
TZOFFSETTO:+0200
TZNAME:CEST
DTSTART:20260329T010000
END:DAYLIGHT
BEGIN:STANDARD
TZOFFSETFROM:+0200
TZOFFSETTO:+0100
TZNAME:CET
DTSTART:20261025T010000
END:STANDARD
BEGIN:DAYLIGHT
TZOFFSETFROM:+0100
TZOFFSETTO:+0200
TZNAME:CEST
DTSTART:20270328T010000
END:DAYLIGHT
BEGIN:STANDARD
TZOFFSETFROM:+0200
TZOFFSETTO:+0100
TZNAME:CET
DTSTART:20271031T010000
END:STANDARD
BEGIN:DAYLIGHT
TZOFFSETFROM:+0100
TZOFFSETTO:+0200
TZNAME:CEST
DTSTART:20280326T010000
END:DAYLIGHT
BEGIN:STANDARD
TZOFFSETFROM:+0200
TZOFFSETTO:+0100
TZNAME:CET
DTSTART:20281029T010000
END:STANDARD
BEGIN:DAYLIGHT
TZOFFSETFROM:+0100
TZOFFSETTO:+0200
TZNAME:CEST
DTSTART:20290325T010000
END:DAYLIGHT
BEGIN:STANDARD
TZOFFSETFROM:+0200
TZOFFSETTO:+0100
TZNAME:CET
DTSTART:20291028T010000
END:STANDARD
END:VTIMEZONE
BEGIN:VEVENT
DTSTART;TZID=Europe/Berlin:20260528T130000
DTEND;TZID=Europe/Berlin:20260528T150000
DTSTAMP:20260424T120002
CREATED:20250226T092928Z
LAST-MODIFIED:20250306T131704Z
UID:10004971-1779973200-1779980400@mnw-dd.de
SUMMARY:Men Shed – Werkstattangebot
DESCRIPTION:Werkstattangebot für Senioren jeden 2. und 4. Donnerstag 13:00-15:00 Uhr im Männernetzwerk Dresden \nWerkstattangebot für Senioren\, speziell für die Arbeit am und mit Holz. Wir sind offen für alle Projekte von Pyramiden bis zur Stuhlreperatur. Alles entwickeln wir gemeinsam\, Schulter an Schulter. Mit Geduld und Zeit können wir uns kreativ austoben und gemeinsam etwas schaffen. Im Mittelpunkt steht der Mann. Wir nennen das Männerschuppen und sind damit ein Teil einer weltweiten Bewegung der „Men Sheds“.
URL:https://mnw-dd.de/termin/men-shed-werkstattangebot-2/2026-05-28
CATEGORIES:Seniorenarbeit
END:VEVENT
BEGIN:VEVENT
DTSTART;TZID=Europe/Berlin:20260625T130000
DTEND;TZID=Europe/Berlin:20260625T150000
DTSTAMP:20260424T120002
CREATED:20250226T092928Z
LAST-MODIFIED:20250306T131704Z
UID:10004972-1782392400-1782399600@mnw-dd.de
SUMMARY:Men Shed – Werkstattangebot
DESCRIPTION:Werkstattangebot für Senioren jeden 2. und 4. Donnerstag 13:00-15:00 Uhr im Männernetzwerk Dresden \nWerkstattangebot für Senioren\, speziell für die Arbeit am und mit Holz. Wir sind offen für alle Projekte von Pyramiden bis zur Stuhlreperatur. Alles entwickeln wir gemeinsam\, Schulter an Schulter. Mit Geduld und Zeit können wir uns kreativ austoben und gemeinsam etwas schaffen. Im Mittelpunkt steht der Mann. Wir nennen das Männerschuppen und sind damit ein Teil einer weltweiten Bewegung der „Men Sheds“.
URL:https://mnw-dd.de/termin/men-shed-werkstattangebot-2/2026-06-25
CATEGORIES:Seniorenarbeit
END:VEVENT
BEGIN:VEVENT
DTSTART;TZID=Europe/Berlin:20260723T130000
DTEND;TZID=Europe/Berlin:20260723T150000
DTSTAMP:20260424T120002
CREATED:20250226T092928Z
LAST-MODIFIED:20250306T131704Z
UID:10004973-1784811600-1784818800@mnw-dd.de
SUMMARY:Men Shed – Werkstattangebot
DESCRIPTION:Werkstattangebot für Senioren jeden 2. und 4. Donnerstag 13:00-15:00 Uhr im Männernetzwerk Dresden \nWerkstattangebot für Senioren\, speziell für die Arbeit am und mit Holz. Wir sind offen für alle Projekte von Pyramiden bis zur Stuhlreperatur. Alles entwickeln wir gemeinsam\, Schulter an Schulter. Mit Geduld und Zeit können wir uns kreativ austoben und gemeinsam etwas schaffen. Im Mittelpunkt steht der Mann. Wir nennen das Männerschuppen und sind damit ein Teil einer weltweiten Bewegung der „Men Sheds“.
URL:https://mnw-dd.de/termin/men-shed-werkstattangebot-2/2026-07-23
CATEGORIES:Seniorenarbeit
END:VEVENT
BEGIN:VEVENT
DTSTART;TZID=Europe/Berlin:20260827T130000
DTEND;TZID=Europe/Berlin:20260827T150000
DTSTAMP:20260424T120002
CREATED:20250226T092928Z
LAST-MODIFIED:20250306T131704Z
UID:10004974-1787835600-1787842800@mnw-dd.de
SUMMARY:Men Shed – Werkstattangebot
DESCRIPTION:Werkstattangebot für Senioren jeden 2. und 4. Donnerstag 13:00-15:00 Uhr im Männernetzwerk Dresden \nWerkstattangebot für Senioren\, speziell für die Arbeit am und mit Holz. Wir sind offen für alle Projekte von Pyramiden bis zur Stuhlreperatur. Alles entwickeln wir gemeinsam\, Schulter an Schulter. Mit Geduld und Zeit können wir uns kreativ austoben und gemeinsam etwas schaffen. Im Mittelpunkt steht der Mann. Wir nennen das Männerschuppen und sind damit ein Teil einer weltweiten Bewegung der „Men Sheds“.
URL:https://mnw-dd.de/termin/men-shed-werkstattangebot-2/2026-08-27
CATEGORIES:Seniorenarbeit
END:VEVENT
BEGIN:VEVENT
DTSTART;TZID=Europe/Berlin:20260924T130000
DTEND;TZID=Europe/Berlin:20260924T150000
DTSTAMP:20260424T120002
CREATED:20250226T092928Z
LAST-MODIFIED:20250306T131704Z
UID:10004975-1790254800-1790262000@mnw-dd.de
SUMMARY:Men Shed – Werkstattangebot
DESCRIPTION:Werkstattangebot für Senioren jeden 2. und 4. Donnerstag 13:00-15:00 Uhr im Männernetzwerk Dresden \nWerkstattangebot für Senioren\, speziell für die Arbeit am und mit Holz. Wir sind offen für alle Projekte von Pyramiden bis zur Stuhlreperatur. Alles entwickeln wir gemeinsam\, Schulter an Schulter. Mit Geduld und Zeit können wir uns kreativ austoben und gemeinsam etwas schaffen. Im Mittelpunkt steht der Mann. Wir nennen das Männerschuppen und sind damit ein Teil einer weltweiten Bewegung der „Men Sheds“.
URL:https://mnw-dd.de/termin/men-shed-werkstattangebot-2/2026-09-24
CATEGORIES:Seniorenarbeit
END:VEVENT
BEGIN:VEVENT
DTSTART;TZID=Europe/Berlin:20261022T130000
DTEND;TZID=Europe/Berlin:20261022T150000
DTSTAMP:20260424T120002
CREATED:20250226T092928Z
LAST-MODIFIED:20250306T131704Z
UID:10004976-1792674000-1792681200@mnw-dd.de
SUMMARY:Men Shed – Werkstattangebot
DESCRIPTION:Werkstattangebot für Senioren jeden 2. und 4. Donnerstag 13:00-15:00 Uhr im Männernetzwerk Dresden \nWerkstattangebot für Senioren\, speziell für die Arbeit am und mit Holz. Wir sind offen für alle Projekte von Pyramiden bis zur Stuhlreperatur. Alles entwickeln wir gemeinsam\, Schulter an Schulter. Mit Geduld und Zeit können wir uns kreativ austoben und gemeinsam etwas schaffen. Im Mittelpunkt steht der Mann. Wir nennen das Männerschuppen und sind damit ein Teil einer weltweiten Bewegung der „Men Sheds“.
URL:https://mnw-dd.de/termin/men-shed-werkstattangebot-2/2026-10-22
CATEGORIES:Seniorenarbeit
END:VEVENT
BEGIN:VEVENT
DTSTART;TZID=Europe/Berlin:20261126T130000
DTEND;TZID=Europe/Berlin:20261126T150000
DTSTAMP:20260424T120002
CREATED:20250226T092928Z
LAST-MODIFIED:20250306T131704Z
UID:10004977-1795698000-1795705200@mnw-dd.de
SUMMARY:Men Shed – Werkstattangebot
DESCRIPTION:Werkstattangebot für Senioren jeden 2. und 4. Donnerstag 13:00-15:00 Uhr im Männernetzwerk Dresden \nWerkstattangebot für Senioren\, speziell für die Arbeit am und mit Holz. Wir sind offen für alle Projekte von Pyramiden bis zur Stuhlreperatur. Alles entwickeln wir gemeinsam\, Schulter an Schulter. Mit Geduld und Zeit können wir uns kreativ austoben und gemeinsam etwas schaffen. Im Mittelpunkt steht der Mann. Wir nennen das Männerschuppen und sind damit ein Teil einer weltweiten Bewegung der „Men Sheds“.
URL:https://mnw-dd.de/termin/men-shed-werkstattangebot-2/2026-11-26
CATEGORIES:Seniorenarbeit
END:VEVENT
BEGIN:VEVENT
DTSTART;TZID=Europe/Berlin:20261224T130000
DTEND;TZID=Europe/Berlin:20261224T150000
DTSTAMP:20260424T120002
CREATED:20250226T092928Z
LAST-MODIFIED:20250306T131704Z
UID:10004978-1798117200-1798124400@mnw-dd.de
SUMMARY:Men Shed – Werkstattangebot
DESCRIPTION:Werkstattangebot für Senioren jeden 2. und 4. Donnerstag 13:00-15:00 Uhr im Männernetzwerk Dresden \nWerkstattangebot für Senioren\, speziell für die Arbeit am und mit Holz. Wir sind offen für alle Projekte von Pyramiden bis zur Stuhlreperatur. Alles entwickeln wir gemeinsam\, Schulter an Schulter. Mit Geduld und Zeit können wir uns kreativ austoben und gemeinsam etwas schaffen. Im Mittelpunkt steht der Mann. Wir nennen das Männerschuppen und sind damit ein Teil einer weltweiten Bewegung der „Men Sheds“.
URL:https://mnw-dd.de/termin/men-shed-werkstattangebot-2/2026-12-24
CATEGORIES:Seniorenarbeit
END:VEVENT
BEGIN:VEVENT
DTSTART;TZID=Europe/Berlin:20270128T130000
DTEND;TZID=Europe/Berlin:20270128T150000
DTSTAMP:20260424T120002
CREATED:20250226T092928Z
LAST-MODIFIED:20250306T131704Z
UID:10004979-1801141200-1801148400@mnw-dd.de
SUMMARY:Men Shed – Werkstattangebot
DESCRIPTION:Werkstattangebot für Senioren jeden 2. und 4. Donnerstag 13:00-15:00 Uhr im Männernetzwerk Dresden \nWerkstattangebot für Senioren\, speziell für die Arbeit am und mit Holz. Wir sind offen für alle Projekte von Pyramiden bis zur Stuhlreperatur. Alles entwickeln wir gemeinsam\, Schulter an Schulter. Mit Geduld und Zeit können wir uns kreativ austoben und gemeinsam etwas schaffen. Im Mittelpunkt steht der Mann. Wir nennen das Männerschuppen und sind damit ein Teil einer weltweiten Bewegung der „Men Sheds“.
URL:https://mnw-dd.de/termin/men-shed-werkstattangebot-2/2027-01-28
CATEGORIES:Seniorenarbeit
END:VEVENT
BEGIN:VEVENT
DTSTART;TZID=Europe/Berlin:20270225T130000
DTEND;TZID=Europe/Berlin:20270225T150000
DTSTAMP:20260424T120002
CREATED:20250226T092928Z
LAST-MODIFIED:20250306T131704Z
UID:10004980-1803560400-1803567600@mnw-dd.de
SUMMARY:Men Shed – Werkstattangebot
DESCRIPTION:Werkstattangebot für Senioren jeden 2. und 4. Donnerstag 13:00-15:00 Uhr im Männernetzwerk Dresden \nWerkstattangebot für Senioren\, speziell für die Arbeit am und mit Holz. Wir sind offen für alle Projekte von Pyramiden bis zur Stuhlreperatur. Alles entwickeln wir gemeinsam\, Schulter an Schulter. Mit Geduld und Zeit können wir uns kreativ austoben und gemeinsam etwas schaffen. Im Mittelpunkt steht der Mann. Wir nennen das Männerschuppen und sind damit ein Teil einer weltweiten Bewegung der „Men Sheds“.
URL:https://mnw-dd.de/termin/men-shed-werkstattangebot-2/2027-02-25
CATEGORIES:Seniorenarbeit
END:VEVENT
BEGIN:VEVENT
DTSTART;TZID=Europe/Berlin:20270325T130000
DTEND;TZID=Europe/Berlin:20270325T150000
DTSTAMP:20260424T120002
CREATED:20250226T092928Z
LAST-MODIFIED:20250306T131704Z
UID:10004981-1805979600-1805986800@mnw-dd.de
SUMMARY:Men Shed – Werkstattangebot
DESCRIPTION:Werkstattangebot für Senioren jeden 2. und 4. Donnerstag 13:00-15:00 Uhr im Männernetzwerk Dresden \nWerkstattangebot für Senioren\, speziell für die Arbeit am und mit Holz. Wir sind offen für alle Projekte von Pyramiden bis zur Stuhlreperatur. Alles entwickeln wir gemeinsam\, Schulter an Schulter. Mit Geduld und Zeit können wir uns kreativ austoben und gemeinsam etwas schaffen. Im Mittelpunkt steht der Mann. Wir nennen das Männerschuppen und sind damit ein Teil einer weltweiten Bewegung der „Men Sheds“.
URL:https://mnw-dd.de/termin/men-shed-werkstattangebot-2/2027-03-25
CATEGORIES:Seniorenarbeit
END:VEVENT
BEGIN:VEVENT
DTSTART;TZID=Europe/Berlin:20270422T130000
DTEND;TZID=Europe/Berlin:20270422T150000
DTSTAMP:20260424T120002
CREATED:20250226T092928Z
LAST-MODIFIED:20250306T131704Z
UID:10004982-1808398800-1808406000@mnw-dd.de
SUMMARY:Men Shed – Werkstattangebot
DESCRIPTION:Werkstattangebot für Senioren jeden 2. und 4. Donnerstag 13:00-15:00 Uhr im Männernetzwerk Dresden \nWerkstattangebot für Senioren\, speziell für die Arbeit am und mit Holz. Wir sind offen für alle Projekte von Pyramiden bis zur Stuhlreperatur. Alles entwickeln wir gemeinsam\, Schulter an Schulter. Mit Geduld und Zeit können wir uns kreativ austoben und gemeinsam etwas schaffen. Im Mittelpunkt steht der Mann. Wir nennen das Männerschuppen und sind damit ein Teil einer weltweiten Bewegung der „Men Sheds“.
URL:https://mnw-dd.de/termin/men-shed-werkstattangebot-2/2027-04-22
CATEGORIES:Seniorenarbeit
END:VEVENT
BEGIN:VEVENT
DTSTART;TZID=Europe/Berlin:20270527T130000
DTEND;TZID=Europe/Berlin:20270527T150000
DTSTAMP:20260424T120002
CREATED:20250226T092928Z
LAST-MODIFIED:20250306T131704Z
UID:10004983-1811422800-1811430000@mnw-dd.de
SUMMARY:Men Shed – Werkstattangebot
DESCRIPTION:Werkstattangebot für Senioren jeden 2. und 4. Donnerstag 13:00-15:00 Uhr im Männernetzwerk Dresden \nWerkstattangebot für Senioren\, speziell für die Arbeit am und mit Holz. Wir sind offen für alle Projekte von Pyramiden bis zur Stuhlreperatur. Alles entwickeln wir gemeinsam\, Schulter an Schulter. Mit Geduld und Zeit können wir uns kreativ austoben und gemeinsam etwas schaffen. Im Mittelpunkt steht der Mann. Wir nennen das Männerschuppen und sind damit ein Teil einer weltweiten Bewegung der „Men Sheds“.
URL:https://mnw-dd.de/termin/men-shed-werkstattangebot-2/2027-05-27
CATEGORIES:Seniorenarbeit
END:VEVENT
BEGIN:VEVENT
DTSTART;TZID=Europe/Berlin:20270624T130000
DTEND;TZID=Europe/Berlin:20270624T150000
DTSTAMP:20260424T120002
CREATED:20250226T092928Z
LAST-MODIFIED:20250306T131704Z
UID:10004984-1813842000-1813849200@mnw-dd.de
SUMMARY:Men Shed – Werkstattangebot
DESCRIPTION:Werkstattangebot für Senioren jeden 2. und 4. Donnerstag 13:00-15:00 Uhr im Männernetzwerk Dresden \nWerkstattangebot für Senioren\, speziell für die Arbeit am und mit Holz. Wir sind offen für alle Projekte von Pyramiden bis zur Stuhlreperatur. Alles entwickeln wir gemeinsam\, Schulter an Schulter. Mit Geduld und Zeit können wir uns kreativ austoben und gemeinsam etwas schaffen. Im Mittelpunkt steht der Mann. Wir nennen das Männerschuppen und sind damit ein Teil einer weltweiten Bewegung der „Men Sheds“.
URL:https://mnw-dd.de/termin/men-shed-werkstattangebot-2/2027-06-24
CATEGORIES:Seniorenarbeit
END:VEVENT
BEGIN:VEVENT
DTSTART;TZID=Europe/Berlin:20270722T130000
DTEND;TZID=Europe/Berlin:20270722T150000
DTSTAMP:20260424T120002
CREATED:20250226T092928Z
LAST-MODIFIED:20250306T131704Z
UID:10004985-1816261200-1816268400@mnw-dd.de
SUMMARY:Men Shed – Werkstattangebot
DESCRIPTION:Werkstattangebot für Senioren jeden 2. und 4. Donnerstag 13:00-15:00 Uhr im Männernetzwerk Dresden \nWerkstattangebot für Senioren\, speziell für die Arbeit am und mit Holz. Wir sind offen für alle Projekte von Pyramiden bis zur Stuhlreperatur. Alles entwickeln wir gemeinsam\, Schulter an Schulter. Mit Geduld und Zeit können wir uns kreativ austoben und gemeinsam etwas schaffen. Im Mittelpunkt steht der Mann. Wir nennen das Männerschuppen und sind damit ein Teil einer weltweiten Bewegung der „Men Sheds“.
URL:https://mnw-dd.de/termin/men-shed-werkstattangebot-2/2027-07-22
CATEGORIES:Seniorenarbeit
END:VEVENT
BEGIN:VEVENT
DTSTART;TZID=Europe/Berlin:20270826T130000
DTEND;TZID=Europe/Berlin:20270826T150000
DTSTAMP:20260424T120002
CREATED:20250226T092928Z
LAST-MODIFIED:20250306T131704Z
UID:10004986-1819285200-1819292400@mnw-dd.de
SUMMARY:Men Shed – Werkstattangebot
DESCRIPTION:Werkstattangebot für Senioren jeden 2. und 4. Donnerstag 13:00-15:00 Uhr im Männernetzwerk Dresden \nWerkstattangebot für Senioren\, speziell für die Arbeit am und mit Holz. Wir sind offen für alle Projekte von Pyramiden bis zur Stuhlreperatur. Alles entwickeln wir gemeinsam\, Schulter an Schulter. Mit Geduld und Zeit können wir uns kreativ austoben und gemeinsam etwas schaffen. Im Mittelpunkt steht der Mann. Wir nennen das Männerschuppen und sind damit ein Teil einer weltweiten Bewegung der „Men Sheds“.
URL:https://mnw-dd.de/termin/men-shed-werkstattangebot-2/2027-08-26
CATEGORIES:Seniorenarbeit
END:VEVENT
BEGIN:VEVENT
DTSTART;TZID=Europe/Berlin:20270923T130000
DTEND;TZID=Europe/Berlin:20270923T150000
DTSTAMP:20260424T120002
CREATED:20250226T092928Z
LAST-MODIFIED:20250306T131704Z
UID:10004987-1821704400-1821711600@mnw-dd.de
SUMMARY:Men Shed – Werkstattangebot
DESCRIPTION:Werkstattangebot für Senioren jeden 2. und 4. Donnerstag 13:00-15:00 Uhr im Männernetzwerk Dresden \nWerkstattangebot für Senioren\, speziell für die Arbeit am und mit Holz. Wir sind offen für alle Projekte von Pyramiden bis zur Stuhlreperatur. Alles entwickeln wir gemeinsam\, Schulter an Schulter. Mit Geduld und Zeit können wir uns kreativ austoben und gemeinsam etwas schaffen. Im Mittelpunkt steht der Mann. Wir nennen das Männerschuppen und sind damit ein Teil einer weltweiten Bewegung der „Men Sheds“.
URL:https://mnw-dd.de/termin/men-shed-werkstattangebot-2/2027-09-23
CATEGORIES:Seniorenarbeit
END:VEVENT
BEGIN:VEVENT
DTSTART;TZID=Europe/Berlin:20271028T130000
DTEND;TZID=Europe/Berlin:20271028T150000
DTSTAMP:20260424T120002
CREATED:20250226T092928Z
LAST-MODIFIED:20250306T131704Z
UID:10004988-1824728400-1824735600@mnw-dd.de
SUMMARY:Men Shed – Werkstattangebot
DESCRIPTION:Werkstattangebot für Senioren jeden 2. und 4. Donnerstag 13:00-15:00 Uhr im Männernetzwerk Dresden \nWerkstattangebot für Senioren\, speziell für die Arbeit am und mit Holz. Wir sind offen für alle Projekte von Pyramiden bis zur Stuhlreperatur. Alles entwickeln wir gemeinsam\, Schulter an Schulter. Mit Geduld und Zeit können wir uns kreativ austoben und gemeinsam etwas schaffen. Im Mittelpunkt steht der Mann. Wir nennen das Männerschuppen und sind damit ein Teil einer weltweiten Bewegung der „Men Sheds“.
URL:https://mnw-dd.de/termin/men-shed-werkstattangebot-2/2027-10-28
CATEGORIES:Seniorenarbeit
END:VEVENT
BEGIN:VEVENT
DTSTART;TZID=Europe/Berlin:20271125T130000
DTEND;TZID=Europe/Berlin:20271125T150000
DTSTAMP:20260424T120002
CREATED:20250226T092928Z
LAST-MODIFIED:20250306T131704Z
UID:10004989-1827147600-1827154800@mnw-dd.de
SUMMARY:Men Shed – Werkstattangebot
DESCRIPTION:Werkstattangebot für Senioren jeden 2. und 4. Donnerstag 13:00-15:00 Uhr im Männernetzwerk Dresden \nWerkstattangebot für Senioren\, speziell für die Arbeit am und mit Holz. Wir sind offen für alle Projekte von Pyramiden bis zur Stuhlreperatur. Alles entwickeln wir gemeinsam\, Schulter an Schulter. Mit Geduld und Zeit können wir uns kreativ austoben und gemeinsam etwas schaffen. Im Mittelpunkt steht der Mann. Wir nennen das Männerschuppen und sind damit ein Teil einer weltweiten Bewegung der „Men Sheds“.
URL:https://mnw-dd.de/termin/men-shed-werkstattangebot-2/2027-11-25
CATEGORIES:Seniorenarbeit
END:VEVENT
BEGIN:VEVENT
DTSTART;TZID=Europe/Berlin:20271223T130000
DTEND;TZID=Europe/Berlin:20271223T150000
DTSTAMP:20260424T120002
CREATED:20250226T092928Z
LAST-MODIFIED:20250306T131704Z
UID:10004990-1829566800-1829574000@mnw-dd.de
SUMMARY:Men Shed – Werkstattangebot
DESCRIPTION:Werkstattangebot für Senioren jeden 2. und 4. Donnerstag 13:00-15:00 Uhr im Männernetzwerk Dresden \nWerkstattangebot für Senioren\, speziell für die Arbeit am und mit Holz. Wir sind offen für alle Projekte von Pyramiden bis zur Stuhlreperatur. Alles entwickeln wir gemeinsam\, Schulter an Schulter. Mit Geduld und Zeit können wir uns kreativ austoben und gemeinsam etwas schaffen. Im Mittelpunkt steht der Mann. Wir nennen das Männerschuppen und sind damit ein Teil einer weltweiten Bewegung der „Men Sheds“.
URL:https://mnw-dd.de/termin/men-shed-werkstattangebot-2/2027-12-23
CATEGORIES:Seniorenarbeit
END:VEVENT
BEGIN:VEVENT
DTSTART;TZID=Europe/Berlin:20280127T130000
DTEND;TZID=Europe/Berlin:20280127T150000
DTSTAMP:20260424T120002
CREATED:20250226T092928Z
LAST-MODIFIED:20250306T131704Z
UID:10004991-1832590800-1832598000@mnw-dd.de
SUMMARY:Men Shed – Werkstattangebot
DESCRIPTION:Werkstattangebot für Senioren jeden 2. und 4. Donnerstag 13:00-15:00 Uhr im Männernetzwerk Dresden \nWerkstattangebot für Senioren\, speziell für die Arbeit am und mit Holz. Wir sind offen für alle Projekte von Pyramiden bis zur Stuhlreperatur. Alles entwickeln wir gemeinsam\, Schulter an Schulter. Mit Geduld und Zeit können wir uns kreativ austoben und gemeinsam etwas schaffen. Im Mittelpunkt steht der Mann. Wir nennen das Männerschuppen und sind damit ein Teil einer weltweiten Bewegung der „Men Sheds“.
URL:https://mnw-dd.de/termin/men-shed-werkstattangebot-2/2028-01-27
CATEGORIES:Seniorenarbeit
END:VEVENT
BEGIN:VEVENT
DTSTART;TZID=Europe/Berlin:20280224T130000
DTEND;TZID=Europe/Berlin:20280224T150000
DTSTAMP:20260424T120002
CREATED:20250226T092928Z
LAST-MODIFIED:20250306T131704Z
UID:10004992-1835010000-1835017200@mnw-dd.de
SUMMARY:Men Shed – Werkstattangebot
DESCRIPTION:Werkstattangebot für Senioren jeden 2. und 4. Donnerstag 13:00-15:00 Uhr im Männernetzwerk Dresden \nWerkstattangebot für Senioren\, speziell für die Arbeit am und mit Holz. Wir sind offen für alle Projekte von Pyramiden bis zur Stuhlreperatur. Alles entwickeln wir gemeinsam\, Schulter an Schulter. Mit Geduld und Zeit können wir uns kreativ austoben und gemeinsam etwas schaffen. Im Mittelpunkt steht der Mann. Wir nennen das Männerschuppen und sind damit ein Teil einer weltweiten Bewegung der „Men Sheds“.
URL:https://mnw-dd.de/termin/men-shed-werkstattangebot-2/2028-02-24
CATEGORIES:Seniorenarbeit
END:VEVENT
BEGIN:VEVENT
DTSTART;TZID=Europe/Berlin:20280323T130000
DTEND;TZID=Europe/Berlin:20280323T150000
DTSTAMP:20260424T120002
CREATED:20250226T092928Z
LAST-MODIFIED:20250306T131704Z
UID:10004993-1837429200-1837436400@mnw-dd.de
SUMMARY:Men Shed – Werkstattangebot
DESCRIPTION:Werkstattangebot für Senioren jeden 2. und 4. Donnerstag 13:00-15:00 Uhr im Männernetzwerk Dresden \nWerkstattangebot für Senioren\, speziell für die Arbeit am und mit Holz. Wir sind offen für alle Projekte von Pyramiden bis zur Stuhlreperatur. Alles entwickeln wir gemeinsam\, Schulter an Schulter. Mit Geduld und Zeit können wir uns kreativ austoben und gemeinsam etwas schaffen. Im Mittelpunkt steht der Mann. Wir nennen das Männerschuppen und sind damit ein Teil einer weltweiten Bewegung der „Men Sheds“.
URL:https://mnw-dd.de/termin/men-shed-werkstattangebot-2/2028-03-23
CATEGORIES:Seniorenarbeit
END:VEVENT
BEGIN:VEVENT
DTSTART;TZID=Europe/Berlin:20280427T130000
DTEND;TZID=Europe/Berlin:20280427T150000
DTSTAMP:20260424T120002
CREATED:20250226T092928Z
LAST-MODIFIED:20250306T131704Z
UID:10004994-1840453200-1840460400@mnw-dd.de
SUMMARY:Men Shed – Werkstattangebot
DESCRIPTION:Werkstattangebot für Senioren jeden 2. und 4. Donnerstag 13:00-15:00 Uhr im Männernetzwerk Dresden \nWerkstattangebot für Senioren\, speziell für die Arbeit am und mit Holz. Wir sind offen für alle Projekte von Pyramiden bis zur Stuhlreperatur. Alles entwickeln wir gemeinsam\, Schulter an Schulter. Mit Geduld und Zeit können wir uns kreativ austoben und gemeinsam etwas schaffen. Im Mittelpunkt steht der Mann. Wir nennen das Männerschuppen und sind damit ein Teil einer weltweiten Bewegung der „Men Sheds“.
URL:https://mnw-dd.de/termin/men-shed-werkstattangebot-2/2028-04-27
CATEGORIES:Seniorenarbeit
END:VEVENT
BEGIN:VEVENT
DTSTART;TZID=Europe/Berlin:20280525T130000
DTEND;TZID=Europe/Berlin:20280525T150000
DTSTAMP:20260424T120002
CREATED:20250226T092928Z
LAST-MODIFIED:20250306T131704Z
UID:10004995-1842872400-1842879600@mnw-dd.de
SUMMARY:Men Shed – Werkstattangebot
DESCRIPTION:Werkstattangebot für Senioren jeden 2. und 4. Donnerstag 13:00-15:00 Uhr im Männernetzwerk Dresden \nWerkstattangebot für Senioren\, speziell für die Arbeit am und mit Holz. Wir sind offen für alle Projekte von Pyramiden bis zur Stuhlreperatur. Alles entwickeln wir gemeinsam\, Schulter an Schulter. Mit Geduld und Zeit können wir uns kreativ austoben und gemeinsam etwas schaffen. Im Mittelpunkt steht der Mann. Wir nennen das Männerschuppen und sind damit ein Teil einer weltweiten Bewegung der „Men Sheds“.
URL:https://mnw-dd.de/termin/men-shed-werkstattangebot-2/2028-05-25
CATEGORIES:Seniorenarbeit
END:VEVENT
BEGIN:VEVENT
DTSTART;TZID=Europe/Berlin:20280622T130000
DTEND;TZID=Europe/Berlin:20280622T150000
DTSTAMP:20260424T120002
CREATED:20250226T092928Z
LAST-MODIFIED:20250306T131704Z
UID:10004996-1845291600-1845298800@mnw-dd.de
SUMMARY:Men Shed – Werkstattangebot
DESCRIPTION:Werkstattangebot für Senioren jeden 2. und 4. Donnerstag 13:00-15:00 Uhr im Männernetzwerk Dresden \nWerkstattangebot für Senioren\, speziell für die Arbeit am und mit Holz. Wir sind offen für alle Projekte von Pyramiden bis zur Stuhlreperatur. Alles entwickeln wir gemeinsam\, Schulter an Schulter. Mit Geduld und Zeit können wir uns kreativ austoben und gemeinsam etwas schaffen. Im Mittelpunkt steht der Mann. Wir nennen das Männerschuppen und sind damit ein Teil einer weltweiten Bewegung der „Men Sheds“.
URL:https://mnw-dd.de/termin/men-shed-werkstattangebot-2/2028-06-22
CATEGORIES:Seniorenarbeit
END:VEVENT
BEGIN:VEVENT
DTSTART;TZID=Europe/Berlin:20280727T130000
DTEND;TZID=Europe/Berlin:20280727T150000
DTSTAMP:20260424T120002
CREATED:20250226T092928Z
LAST-MODIFIED:20250306T131704Z
UID:10004997-1848315600-1848322800@mnw-dd.de
SUMMARY:Men Shed – Werkstattangebot
DESCRIPTION:Werkstattangebot für Senioren jeden 2. und 4. Donnerstag 13:00-15:00 Uhr im Männernetzwerk Dresden \nWerkstattangebot für Senioren\, speziell für die Arbeit am und mit Holz. Wir sind offen für alle Projekte von Pyramiden bis zur Stuhlreperatur. Alles entwickeln wir gemeinsam\, Schulter an Schulter. Mit Geduld und Zeit können wir uns kreativ austoben und gemeinsam etwas schaffen. Im Mittelpunkt steht der Mann. Wir nennen das Männerschuppen und sind damit ein Teil einer weltweiten Bewegung der „Men Sheds“.
URL:https://mnw-dd.de/termin/men-shed-werkstattangebot-2/2028-07-27
CATEGORIES:Seniorenarbeit
END:VEVENT
BEGIN:VEVENT
DTSTART;TZID=Europe/Berlin:20280824T130000
DTEND;TZID=Europe/Berlin:20280824T150000
DTSTAMP:20260424T120002
CREATED:20250226T092928Z
LAST-MODIFIED:20250306T131704Z
UID:10004998-1850734800-1850742000@mnw-dd.de
SUMMARY:Men Shed – Werkstattangebot
DESCRIPTION:Werkstattangebot für Senioren jeden 2. und 4. Donnerstag 13:00-15:00 Uhr im Männernetzwerk Dresden \nWerkstattangebot für Senioren\, speziell für die Arbeit am und mit Holz. Wir sind offen für alle Projekte von Pyramiden bis zur Stuhlreperatur. Alles entwickeln wir gemeinsam\, Schulter an Schulter. Mit Geduld und Zeit können wir uns kreativ austoben und gemeinsam etwas schaffen. Im Mittelpunkt steht der Mann. Wir nennen das Männerschuppen und sind damit ein Teil einer weltweiten Bewegung der „Men Sheds“.
URL:https://mnw-dd.de/termin/men-shed-werkstattangebot-2/2028-08-24
CATEGORIES:Seniorenarbeit
END:VEVENT
BEGIN:VEVENT
DTSTART;TZID=Europe/Berlin:20280928T130000
DTEND;TZID=Europe/Berlin:20280928T150000
DTSTAMP:20260424T120002
CREATED:20250226T092928Z
LAST-MODIFIED:20250306T131704Z
UID:10004999-1853758800-1853766000@mnw-dd.de
SUMMARY:Men Shed – Werkstattangebot
DESCRIPTION:Werkstattangebot für Senioren jeden 2. und 4. Donnerstag 13:00-15:00 Uhr im Männernetzwerk Dresden \nWerkstattangebot für Senioren\, speziell für die Arbeit am und mit Holz. Wir sind offen für alle Projekte von Pyramiden bis zur Stuhlreperatur. Alles entwickeln wir gemeinsam\, Schulter an Schulter. Mit Geduld und Zeit können wir uns kreativ austoben und gemeinsam etwas schaffen. Im Mittelpunkt steht der Mann. Wir nennen das Männerschuppen und sind damit ein Teil einer weltweiten Bewegung der „Men Sheds“.
URL:https://mnw-dd.de/termin/men-shed-werkstattangebot-2/2028-09-28
CATEGORIES:Seniorenarbeit
END:VEVENT
BEGIN:VEVENT
DTSTART;TZID=Europe/Berlin:20281026T130000
DTEND;TZID=Europe/Berlin:20281026T150000
DTSTAMP:20260424T120002
CREATED:20250226T092928Z
LAST-MODIFIED:20250306T131704Z
UID:10005000-1856178000-1856185200@mnw-dd.de
SUMMARY:Men Shed – Werkstattangebot
DESCRIPTION:Werkstattangebot für Senioren jeden 2. und 4. Donnerstag 13:00-15:00 Uhr im Männernetzwerk Dresden \nWerkstattangebot für Senioren\, speziell für die Arbeit am und mit Holz. Wir sind offen für alle Projekte von Pyramiden bis zur Stuhlreperatur. Alles entwickeln wir gemeinsam\, Schulter an Schulter. Mit Geduld und Zeit können wir uns kreativ austoben und gemeinsam etwas schaffen. Im Mittelpunkt steht der Mann. Wir nennen das Männerschuppen und sind damit ein Teil einer weltweiten Bewegung der „Men Sheds“.
URL:https://mnw-dd.de/termin/men-shed-werkstattangebot-2/2028-10-26
CATEGORIES:Seniorenarbeit
END:VEVENT
END:VCALENDAR