BEGIN:VCALENDAR
VERSION:2.0
PRODID:-//Männernetzwerk Dresden e. V. - ECPv6.15.20//NONSGML v1.0//EN
CALSCALE:GREGORIAN
METHOD:PUBLISH
X-WR-CALNAME:Männernetzwerk Dresden e. V.
X-ORIGINAL-URL:https://mnw-dd.de
X-WR-CALDESC:Veranstaltungen für Männernetzwerk Dresden e. V.
REFRESH-INTERVAL;VALUE=DURATION:PT1H
X-Robots-Tag:noindex
X-PUBLISHED-TTL:PT1H
BEGIN:VTIMEZONE
TZID:Europe/Berlin
BEGIN:DAYLIGHT
TZOFFSETFROM:+0100
TZOFFSETTO:+0200
TZNAME:CEST
DTSTART:20250330T010000
END:DAYLIGHT
BEGIN:STANDARD
TZOFFSETFROM:+0200
TZOFFSETTO:+0100
TZNAME:CET
DTSTART:20251026T010000
END:STANDARD
BEGIN:DAYLIGHT
TZOFFSETFROM:+0100
TZOFFSETTO:+0200
TZNAME:CEST
DTSTART:20260329T010000
END:DAYLIGHT
BEGIN:STANDARD
TZOFFSETFROM:+0200
TZOFFSETTO:+0100
TZNAME:CET
DTSTART:20261025T010000
END:STANDARD
BEGIN:DAYLIGHT
TZOFFSETFROM:+0100
TZOFFSETTO:+0200
TZNAME:CEST
DTSTART:20270328T010000
END:DAYLIGHT
BEGIN:STANDARD
TZOFFSETFROM:+0200
TZOFFSETTO:+0100
TZNAME:CET
DTSTART:20271031T010000
END:STANDARD
BEGIN:DAYLIGHT
TZOFFSETFROM:+0100
TZOFFSETTO:+0200
TZNAME:CEST
DTSTART:20280326T010000
END:DAYLIGHT
BEGIN:STANDARD
TZOFFSETFROM:+0200
TZOFFSETTO:+0100
TZNAME:CET
DTSTART:20281029T010000
END:STANDARD
BEGIN:DAYLIGHT
TZOFFSETFROM:+0100
TZOFFSETTO:+0200
TZNAME:CEST
DTSTART:20290325T010000
END:DAYLIGHT
BEGIN:STANDARD
TZOFFSETFROM:+0200
TZOFFSETTO:+0100
TZNAME:CET
DTSTART:20291028T010000
END:STANDARD
END:VTIMEZONE
BEGIN:VEVENT
DTSTART;TZID=Europe/Berlin:20260512T103000
DTEND;TZID=Europe/Berlin:20260512T120000
DTSTAMP:20260424T102747
CREATED:20241004T120832Z
LAST-MODIFIED:20250226T094931Z
UID:10005030-1778581800-1778587200@mnw-dd.de
SUMMARY:Treidlertreff
DESCRIPTION:Jeden 2. Dienstag 11:00 Uhr im Monat im Stadtbezirksamt Loschwitz. \nProjektarbeitsgruppe zu Regionalgeschichte der „Bomätscher“-Männer/Treidler die die Schiffe die Elbe hinaufgezogen. Hier findet Erinnerungsarbeit statt. Der Treidlerpfad wird historisch aufgearbeitet\, gepflegt und bereichert.
URL:https://mnw-dd.de/termin/treidlertreff-2/2026-05-12
CATEGORIES:Seniorenarbeit
END:VEVENT
BEGIN:VEVENT
DTSTART;TZID=Europe/Berlin:20260609T103000
DTEND;TZID=Europe/Berlin:20260609T120000
DTSTAMP:20260424T102747
CREATED:20241004T120832Z
LAST-MODIFIED:20250226T094931Z
UID:10005031-1781001000-1781006400@mnw-dd.de
SUMMARY:Treidlertreff
DESCRIPTION:Jeden 2. Dienstag 11:00 Uhr im Monat im Stadtbezirksamt Loschwitz. \nProjektarbeitsgruppe zu Regionalgeschichte der „Bomätscher“-Männer/Treidler die die Schiffe die Elbe hinaufgezogen. Hier findet Erinnerungsarbeit statt. Der Treidlerpfad wird historisch aufgearbeitet\, gepflegt und bereichert.
URL:https://mnw-dd.de/termin/treidlertreff-2/2026-06-09
CATEGORIES:Seniorenarbeit
END:VEVENT
BEGIN:VEVENT
DTSTART;TZID=Europe/Berlin:20260714T103000
DTEND;TZID=Europe/Berlin:20260714T120000
DTSTAMP:20260424T102747
CREATED:20241004T120832Z
LAST-MODIFIED:20250226T094931Z
UID:10005032-1784025000-1784030400@mnw-dd.de
SUMMARY:Treidlertreff
DESCRIPTION:Jeden 2. Dienstag 11:00 Uhr im Monat im Stadtbezirksamt Loschwitz. \nProjektarbeitsgruppe zu Regionalgeschichte der „Bomätscher“-Männer/Treidler die die Schiffe die Elbe hinaufgezogen. Hier findet Erinnerungsarbeit statt. Der Treidlerpfad wird historisch aufgearbeitet\, gepflegt und bereichert.
URL:https://mnw-dd.de/termin/treidlertreff-2/2026-07-14
CATEGORIES:Seniorenarbeit
END:VEVENT
BEGIN:VEVENT
DTSTART;TZID=Europe/Berlin:20260811T103000
DTEND;TZID=Europe/Berlin:20260811T120000
DTSTAMP:20260424T102747
CREATED:20241004T120832Z
LAST-MODIFIED:20250226T094931Z
UID:10005033-1786444200-1786449600@mnw-dd.de
SUMMARY:Treidlertreff
DESCRIPTION:Jeden 2. Dienstag 11:00 Uhr im Monat im Stadtbezirksamt Loschwitz. \nProjektarbeitsgruppe zu Regionalgeschichte der „Bomätscher“-Männer/Treidler die die Schiffe die Elbe hinaufgezogen. Hier findet Erinnerungsarbeit statt. Der Treidlerpfad wird historisch aufgearbeitet\, gepflegt und bereichert.
URL:https://mnw-dd.de/termin/treidlertreff-2/2026-08-11
CATEGORIES:Seniorenarbeit
END:VEVENT
BEGIN:VEVENT
DTSTART;TZID=Europe/Berlin:20260908T103000
DTEND;TZID=Europe/Berlin:20260908T120000
DTSTAMP:20260424T102747
CREATED:20241004T120832Z
LAST-MODIFIED:20250226T094931Z
UID:10005034-1788863400-1788868800@mnw-dd.de
SUMMARY:Treidlertreff
DESCRIPTION:Jeden 2. Dienstag 11:00 Uhr im Monat im Stadtbezirksamt Loschwitz. \nProjektarbeitsgruppe zu Regionalgeschichte der „Bomätscher“-Männer/Treidler die die Schiffe die Elbe hinaufgezogen. Hier findet Erinnerungsarbeit statt. Der Treidlerpfad wird historisch aufgearbeitet\, gepflegt und bereichert.
URL:https://mnw-dd.de/termin/treidlertreff-2/2026-09-08
CATEGORIES:Seniorenarbeit
END:VEVENT
BEGIN:VEVENT
DTSTART;TZID=Europe/Berlin:20261013T103000
DTEND;TZID=Europe/Berlin:20261013T120000
DTSTAMP:20260424T102747
CREATED:20241004T120832Z
LAST-MODIFIED:20250226T094931Z
UID:10005035-1791887400-1791892800@mnw-dd.de
SUMMARY:Treidlertreff
DESCRIPTION:Jeden 2. Dienstag 11:00 Uhr im Monat im Stadtbezirksamt Loschwitz. \nProjektarbeitsgruppe zu Regionalgeschichte der „Bomätscher“-Männer/Treidler die die Schiffe die Elbe hinaufgezogen. Hier findet Erinnerungsarbeit statt. Der Treidlerpfad wird historisch aufgearbeitet\, gepflegt und bereichert.
URL:https://mnw-dd.de/termin/treidlertreff-2/2026-10-13
CATEGORIES:Seniorenarbeit
END:VEVENT
BEGIN:VEVENT
DTSTART;TZID=Europe/Berlin:20261110T103000
DTEND;TZID=Europe/Berlin:20261110T120000
DTSTAMP:20260424T102747
CREATED:20241004T120832Z
LAST-MODIFIED:20250226T094931Z
UID:10005036-1794306600-1794312000@mnw-dd.de
SUMMARY:Treidlertreff
DESCRIPTION:Jeden 2. Dienstag 11:00 Uhr im Monat im Stadtbezirksamt Loschwitz. \nProjektarbeitsgruppe zu Regionalgeschichte der „Bomätscher“-Männer/Treidler die die Schiffe die Elbe hinaufgezogen. Hier findet Erinnerungsarbeit statt. Der Treidlerpfad wird historisch aufgearbeitet\, gepflegt und bereichert.
URL:https://mnw-dd.de/termin/treidlertreff-2/2026-11-10
CATEGORIES:Seniorenarbeit
END:VEVENT
BEGIN:VEVENT
DTSTART;TZID=Europe/Berlin:20261208T103000
DTEND;TZID=Europe/Berlin:20261208T120000
DTSTAMP:20260424T102747
CREATED:20241004T120832Z
LAST-MODIFIED:20250226T094931Z
UID:10005037-1796725800-1796731200@mnw-dd.de
SUMMARY:Treidlertreff
DESCRIPTION:Jeden 2. Dienstag 11:00 Uhr im Monat im Stadtbezirksamt Loschwitz. \nProjektarbeitsgruppe zu Regionalgeschichte der „Bomätscher“-Männer/Treidler die die Schiffe die Elbe hinaufgezogen. Hier findet Erinnerungsarbeit statt. Der Treidlerpfad wird historisch aufgearbeitet\, gepflegt und bereichert.
URL:https://mnw-dd.de/termin/treidlertreff-2/2026-12-08
CATEGORIES:Seniorenarbeit
END:VEVENT
BEGIN:VEVENT
DTSTART;TZID=Europe/Berlin:20270112T103000
DTEND;TZID=Europe/Berlin:20270112T120000
DTSTAMP:20260424T102747
CREATED:20241004T120832Z
LAST-MODIFIED:20250226T094931Z
UID:10005038-1799749800-1799755200@mnw-dd.de
SUMMARY:Treidlertreff
DESCRIPTION:Jeden 2. Dienstag 11:00 Uhr im Monat im Stadtbezirksamt Loschwitz. \nProjektarbeitsgruppe zu Regionalgeschichte der „Bomätscher“-Männer/Treidler die die Schiffe die Elbe hinaufgezogen. Hier findet Erinnerungsarbeit statt. Der Treidlerpfad wird historisch aufgearbeitet\, gepflegt und bereichert.
URL:https://mnw-dd.de/termin/treidlertreff-2/2027-01-12
CATEGORIES:Seniorenarbeit
END:VEVENT
BEGIN:VEVENT
DTSTART;TZID=Europe/Berlin:20270209T103000
DTEND;TZID=Europe/Berlin:20270209T120000
DTSTAMP:20260424T102747
CREATED:20241004T120832Z
LAST-MODIFIED:20250226T094931Z
UID:10005039-1802169000-1802174400@mnw-dd.de
SUMMARY:Treidlertreff
DESCRIPTION:Jeden 2. Dienstag 11:00 Uhr im Monat im Stadtbezirksamt Loschwitz. \nProjektarbeitsgruppe zu Regionalgeschichte der „Bomätscher“-Männer/Treidler die die Schiffe die Elbe hinaufgezogen. Hier findet Erinnerungsarbeit statt. Der Treidlerpfad wird historisch aufgearbeitet\, gepflegt und bereichert.
URL:https://mnw-dd.de/termin/treidlertreff-2/2027-02-09
CATEGORIES:Seniorenarbeit
END:VEVENT
BEGIN:VEVENT
DTSTART;TZID=Europe/Berlin:20270309T103000
DTEND;TZID=Europe/Berlin:20270309T120000
DTSTAMP:20260424T102747
CREATED:20241004T120832Z
LAST-MODIFIED:20250226T094931Z
UID:10005040-1804588200-1804593600@mnw-dd.de
SUMMARY:Treidlertreff
DESCRIPTION:Jeden 2. Dienstag 11:00 Uhr im Monat im Stadtbezirksamt Loschwitz. \nProjektarbeitsgruppe zu Regionalgeschichte der „Bomätscher“-Männer/Treidler die die Schiffe die Elbe hinaufgezogen. Hier findet Erinnerungsarbeit statt. Der Treidlerpfad wird historisch aufgearbeitet\, gepflegt und bereichert.
URL:https://mnw-dd.de/termin/treidlertreff-2/2027-03-09
CATEGORIES:Seniorenarbeit
END:VEVENT
BEGIN:VEVENT
DTSTART;TZID=Europe/Berlin:20270413T103000
DTEND;TZID=Europe/Berlin:20270413T120000
DTSTAMP:20260424T102747
CREATED:20241004T120832Z
LAST-MODIFIED:20250226T094931Z
UID:10005041-1807612200-1807617600@mnw-dd.de
SUMMARY:Treidlertreff
DESCRIPTION:Jeden 2. Dienstag 11:00 Uhr im Monat im Stadtbezirksamt Loschwitz. \nProjektarbeitsgruppe zu Regionalgeschichte der „Bomätscher“-Männer/Treidler die die Schiffe die Elbe hinaufgezogen. Hier findet Erinnerungsarbeit statt. Der Treidlerpfad wird historisch aufgearbeitet\, gepflegt und bereichert.
URL:https://mnw-dd.de/termin/treidlertreff-2/2027-04-13
CATEGORIES:Seniorenarbeit
END:VEVENT
BEGIN:VEVENT
DTSTART;TZID=Europe/Berlin:20270511T103000
DTEND;TZID=Europe/Berlin:20270511T120000
DTSTAMP:20260424T102747
CREATED:20241004T120832Z
LAST-MODIFIED:20250226T094931Z
UID:10005042-1810031400-1810036800@mnw-dd.de
SUMMARY:Treidlertreff
DESCRIPTION:Jeden 2. Dienstag 11:00 Uhr im Monat im Stadtbezirksamt Loschwitz. \nProjektarbeitsgruppe zu Regionalgeschichte der „Bomätscher“-Männer/Treidler die die Schiffe die Elbe hinaufgezogen. Hier findet Erinnerungsarbeit statt. Der Treidlerpfad wird historisch aufgearbeitet\, gepflegt und bereichert.
URL:https://mnw-dd.de/termin/treidlertreff-2/2027-05-11
CATEGORIES:Seniorenarbeit
END:VEVENT
BEGIN:VEVENT
DTSTART;TZID=Europe/Berlin:20270608T103000
DTEND;TZID=Europe/Berlin:20270608T120000
DTSTAMP:20260424T102747
CREATED:20241004T120832Z
LAST-MODIFIED:20250226T094931Z
UID:10005043-1812450600-1812456000@mnw-dd.de
SUMMARY:Treidlertreff
DESCRIPTION:Jeden 2. Dienstag 11:00 Uhr im Monat im Stadtbezirksamt Loschwitz. \nProjektarbeitsgruppe zu Regionalgeschichte der „Bomätscher“-Männer/Treidler die die Schiffe die Elbe hinaufgezogen. Hier findet Erinnerungsarbeit statt. Der Treidlerpfad wird historisch aufgearbeitet\, gepflegt und bereichert.
URL:https://mnw-dd.de/termin/treidlertreff-2/2027-06-08
CATEGORIES:Seniorenarbeit
END:VEVENT
BEGIN:VEVENT
DTSTART;TZID=Europe/Berlin:20270713T103000
DTEND;TZID=Europe/Berlin:20270713T120000
DTSTAMP:20260424T102747
CREATED:20241004T120832Z
LAST-MODIFIED:20250226T094931Z
UID:10005044-1815474600-1815480000@mnw-dd.de
SUMMARY:Treidlertreff
DESCRIPTION:Jeden 2. Dienstag 11:00 Uhr im Monat im Stadtbezirksamt Loschwitz. \nProjektarbeitsgruppe zu Regionalgeschichte der „Bomätscher“-Männer/Treidler die die Schiffe die Elbe hinaufgezogen. Hier findet Erinnerungsarbeit statt. Der Treidlerpfad wird historisch aufgearbeitet\, gepflegt und bereichert.
URL:https://mnw-dd.de/termin/treidlertreff-2/2027-07-13
CATEGORIES:Seniorenarbeit
END:VEVENT
BEGIN:VEVENT
DTSTART;TZID=Europe/Berlin:20270810T103000
DTEND;TZID=Europe/Berlin:20270810T120000
DTSTAMP:20260424T102747
CREATED:20241004T120832Z
LAST-MODIFIED:20250226T094931Z
UID:10005045-1817893800-1817899200@mnw-dd.de
SUMMARY:Treidlertreff
DESCRIPTION:Jeden 2. Dienstag 11:00 Uhr im Monat im Stadtbezirksamt Loschwitz. \nProjektarbeitsgruppe zu Regionalgeschichte der „Bomätscher“-Männer/Treidler die die Schiffe die Elbe hinaufgezogen. Hier findet Erinnerungsarbeit statt. Der Treidlerpfad wird historisch aufgearbeitet\, gepflegt und bereichert.
URL:https://mnw-dd.de/termin/treidlertreff-2/2027-08-10
CATEGORIES:Seniorenarbeit
END:VEVENT
BEGIN:VEVENT
DTSTART;TZID=Europe/Berlin:20270914T103000
DTEND;TZID=Europe/Berlin:20270914T120000
DTSTAMP:20260424T102747
CREATED:20241004T120832Z
LAST-MODIFIED:20250226T094931Z
UID:10005046-1820917800-1820923200@mnw-dd.de
SUMMARY:Treidlertreff
DESCRIPTION:Jeden 2. Dienstag 11:00 Uhr im Monat im Stadtbezirksamt Loschwitz. \nProjektarbeitsgruppe zu Regionalgeschichte der „Bomätscher“-Männer/Treidler die die Schiffe die Elbe hinaufgezogen. Hier findet Erinnerungsarbeit statt. Der Treidlerpfad wird historisch aufgearbeitet\, gepflegt und bereichert.
URL:https://mnw-dd.de/termin/treidlertreff-2/2027-09-14
CATEGORIES:Seniorenarbeit
END:VEVENT
BEGIN:VEVENT
DTSTART;TZID=Europe/Berlin:20271012T103000
DTEND;TZID=Europe/Berlin:20271012T120000
DTSTAMP:20260424T102747
CREATED:20241004T120832Z
LAST-MODIFIED:20250226T094931Z
UID:10005047-1823337000-1823342400@mnw-dd.de
SUMMARY:Treidlertreff
DESCRIPTION:Jeden 2. Dienstag 11:00 Uhr im Monat im Stadtbezirksamt Loschwitz. \nProjektarbeitsgruppe zu Regionalgeschichte der „Bomätscher“-Männer/Treidler die die Schiffe die Elbe hinaufgezogen. Hier findet Erinnerungsarbeit statt. Der Treidlerpfad wird historisch aufgearbeitet\, gepflegt und bereichert.
URL:https://mnw-dd.de/termin/treidlertreff-2/2027-10-12
CATEGORIES:Seniorenarbeit
END:VEVENT
BEGIN:VEVENT
DTSTART;TZID=Europe/Berlin:20271109T103000
DTEND;TZID=Europe/Berlin:20271109T120000
DTSTAMP:20260424T102747
CREATED:20241004T120832Z
LAST-MODIFIED:20250226T094931Z
UID:10005048-1825756200-1825761600@mnw-dd.de
SUMMARY:Treidlertreff
DESCRIPTION:Jeden 2. Dienstag 11:00 Uhr im Monat im Stadtbezirksamt Loschwitz. \nProjektarbeitsgruppe zu Regionalgeschichte der „Bomätscher“-Männer/Treidler die die Schiffe die Elbe hinaufgezogen. Hier findet Erinnerungsarbeit statt. Der Treidlerpfad wird historisch aufgearbeitet\, gepflegt und bereichert.
URL:https://mnw-dd.de/termin/treidlertreff-2/2027-11-09
CATEGORIES:Seniorenarbeit
END:VEVENT
BEGIN:VEVENT
DTSTART;TZID=Europe/Berlin:20271214T103000
DTEND;TZID=Europe/Berlin:20271214T120000
DTSTAMP:20260424T102747
CREATED:20241004T120832Z
LAST-MODIFIED:20250226T094931Z
UID:10005049-1828780200-1828785600@mnw-dd.de
SUMMARY:Treidlertreff
DESCRIPTION:Jeden 2. Dienstag 11:00 Uhr im Monat im Stadtbezirksamt Loschwitz. \nProjektarbeitsgruppe zu Regionalgeschichte der „Bomätscher“-Männer/Treidler die die Schiffe die Elbe hinaufgezogen. Hier findet Erinnerungsarbeit statt. Der Treidlerpfad wird historisch aufgearbeitet\, gepflegt und bereichert.
URL:https://mnw-dd.de/termin/treidlertreff-2/2027-12-14
CATEGORIES:Seniorenarbeit
END:VEVENT
BEGIN:VEVENT
DTSTART;TZID=Europe/Berlin:20280111T103000
DTEND;TZID=Europe/Berlin:20280111T120000
DTSTAMP:20260424T102747
CREATED:20241004T120832Z
LAST-MODIFIED:20250226T094931Z
UID:10005050-1831199400-1831204800@mnw-dd.de
SUMMARY:Treidlertreff
DESCRIPTION:Jeden 2. Dienstag 11:00 Uhr im Monat im Stadtbezirksamt Loschwitz. \nProjektarbeitsgruppe zu Regionalgeschichte der „Bomätscher“-Männer/Treidler die die Schiffe die Elbe hinaufgezogen. Hier findet Erinnerungsarbeit statt. Der Treidlerpfad wird historisch aufgearbeitet\, gepflegt und bereichert.
URL:https://mnw-dd.de/termin/treidlertreff-2/2028-01-11
CATEGORIES:Seniorenarbeit
END:VEVENT
BEGIN:VEVENT
DTSTART;TZID=Europe/Berlin:20280208T103000
DTEND;TZID=Europe/Berlin:20280208T120000
DTSTAMP:20260424T102747
CREATED:20241004T120832Z
LAST-MODIFIED:20250226T094931Z
UID:10005051-1833618600-1833624000@mnw-dd.de
SUMMARY:Treidlertreff
DESCRIPTION:Jeden 2. Dienstag 11:00 Uhr im Monat im Stadtbezirksamt Loschwitz. \nProjektarbeitsgruppe zu Regionalgeschichte der „Bomätscher“-Männer/Treidler die die Schiffe die Elbe hinaufgezogen. Hier findet Erinnerungsarbeit statt. Der Treidlerpfad wird historisch aufgearbeitet\, gepflegt und bereichert.
URL:https://mnw-dd.de/termin/treidlertreff-2/2028-02-08
CATEGORIES:Seniorenarbeit
END:VEVENT
BEGIN:VEVENT
DTSTART;TZID=Europe/Berlin:20280314T103000
DTEND;TZID=Europe/Berlin:20280314T120000
DTSTAMP:20260424T102747
CREATED:20241004T120832Z
LAST-MODIFIED:20250226T094931Z
UID:10005052-1836642600-1836648000@mnw-dd.de
SUMMARY:Treidlertreff
DESCRIPTION:Jeden 2. Dienstag 11:00 Uhr im Monat im Stadtbezirksamt Loschwitz. \nProjektarbeitsgruppe zu Regionalgeschichte der „Bomätscher“-Männer/Treidler die die Schiffe die Elbe hinaufgezogen. Hier findet Erinnerungsarbeit statt. Der Treidlerpfad wird historisch aufgearbeitet\, gepflegt und bereichert.
URL:https://mnw-dd.de/termin/treidlertreff-2/2028-03-14
CATEGORIES:Seniorenarbeit
END:VEVENT
BEGIN:VEVENT
DTSTART;TZID=Europe/Berlin:20280411T103000
DTEND;TZID=Europe/Berlin:20280411T120000
DTSTAMP:20260424T102747
CREATED:20241004T120832Z
LAST-MODIFIED:20250226T094931Z
UID:10005053-1839061800-1839067200@mnw-dd.de
SUMMARY:Treidlertreff
DESCRIPTION:Jeden 2. Dienstag 11:00 Uhr im Monat im Stadtbezirksamt Loschwitz. \nProjektarbeitsgruppe zu Regionalgeschichte der „Bomätscher“-Männer/Treidler die die Schiffe die Elbe hinaufgezogen. Hier findet Erinnerungsarbeit statt. Der Treidlerpfad wird historisch aufgearbeitet\, gepflegt und bereichert.
URL:https://mnw-dd.de/termin/treidlertreff-2/2028-04-11
CATEGORIES:Seniorenarbeit
END:VEVENT
BEGIN:VEVENT
DTSTART;TZID=Europe/Berlin:20280509T103000
DTEND;TZID=Europe/Berlin:20280509T120000
DTSTAMP:20260424T102747
CREATED:20241004T120832Z
LAST-MODIFIED:20250226T094931Z
UID:10005054-1841481000-1841486400@mnw-dd.de
SUMMARY:Treidlertreff
DESCRIPTION:Jeden 2. Dienstag 11:00 Uhr im Monat im Stadtbezirksamt Loschwitz. \nProjektarbeitsgruppe zu Regionalgeschichte der „Bomätscher“-Männer/Treidler die die Schiffe die Elbe hinaufgezogen. Hier findet Erinnerungsarbeit statt. Der Treidlerpfad wird historisch aufgearbeitet\, gepflegt und bereichert.
URL:https://mnw-dd.de/termin/treidlertreff-2/2028-05-09
CATEGORIES:Seniorenarbeit
END:VEVENT
BEGIN:VEVENT
DTSTART;TZID=Europe/Berlin:20280613T103000
DTEND;TZID=Europe/Berlin:20280613T120000
DTSTAMP:20260424T102747
CREATED:20241004T120832Z
LAST-MODIFIED:20250226T094931Z
UID:10005055-1844505000-1844510400@mnw-dd.de
SUMMARY:Treidlertreff
DESCRIPTION:Jeden 2. Dienstag 11:00 Uhr im Monat im Stadtbezirksamt Loschwitz. \nProjektarbeitsgruppe zu Regionalgeschichte der „Bomätscher“-Männer/Treidler die die Schiffe die Elbe hinaufgezogen. Hier findet Erinnerungsarbeit statt. Der Treidlerpfad wird historisch aufgearbeitet\, gepflegt und bereichert.
URL:https://mnw-dd.de/termin/treidlertreff-2/2028-06-13
CATEGORIES:Seniorenarbeit
END:VEVENT
BEGIN:VEVENT
DTSTART;TZID=Europe/Berlin:20280711T103000
DTEND;TZID=Europe/Berlin:20280711T120000
DTSTAMP:20260424T102747
CREATED:20241004T120832Z
LAST-MODIFIED:20250226T094931Z
UID:10005056-1846924200-1846929600@mnw-dd.de
SUMMARY:Treidlertreff
DESCRIPTION:Jeden 2. Dienstag 11:00 Uhr im Monat im Stadtbezirksamt Loschwitz. \nProjektarbeitsgruppe zu Regionalgeschichte der „Bomätscher“-Männer/Treidler die die Schiffe die Elbe hinaufgezogen. Hier findet Erinnerungsarbeit statt. Der Treidlerpfad wird historisch aufgearbeitet\, gepflegt und bereichert.
URL:https://mnw-dd.de/termin/treidlertreff-2/2028-07-11
CATEGORIES:Seniorenarbeit
END:VEVENT
BEGIN:VEVENT
DTSTART;TZID=Europe/Berlin:20280808T103000
DTEND;TZID=Europe/Berlin:20280808T120000
DTSTAMP:20260424T102747
CREATED:20241004T120832Z
LAST-MODIFIED:20250226T094931Z
UID:10005057-1849343400-1849348800@mnw-dd.de
SUMMARY:Treidlertreff
DESCRIPTION:Jeden 2. Dienstag 11:00 Uhr im Monat im Stadtbezirksamt Loschwitz. \nProjektarbeitsgruppe zu Regionalgeschichte der „Bomätscher“-Männer/Treidler die die Schiffe die Elbe hinaufgezogen. Hier findet Erinnerungsarbeit statt. Der Treidlerpfad wird historisch aufgearbeitet\, gepflegt und bereichert.
URL:https://mnw-dd.de/termin/treidlertreff-2/2028-08-08
CATEGORIES:Seniorenarbeit
END:VEVENT
BEGIN:VEVENT
DTSTART;TZID=Europe/Berlin:20280912T103000
DTEND;TZID=Europe/Berlin:20280912T120000
DTSTAMP:20260424T102747
CREATED:20241004T120832Z
LAST-MODIFIED:20250226T094931Z
UID:10005058-1852367400-1852372800@mnw-dd.de
SUMMARY:Treidlertreff
DESCRIPTION:Jeden 2. Dienstag 11:00 Uhr im Monat im Stadtbezirksamt Loschwitz. \nProjektarbeitsgruppe zu Regionalgeschichte der „Bomätscher“-Männer/Treidler die die Schiffe die Elbe hinaufgezogen. Hier findet Erinnerungsarbeit statt. Der Treidlerpfad wird historisch aufgearbeitet\, gepflegt und bereichert.
URL:https://mnw-dd.de/termin/treidlertreff-2/2028-09-12
CATEGORIES:Seniorenarbeit
END:VEVENT
BEGIN:VEVENT
DTSTART;TZID=Europe/Berlin:20281010T103000
DTEND;TZID=Europe/Berlin:20281010T120000
DTSTAMP:20260424T102747
CREATED:20241004T120832Z
LAST-MODIFIED:20250226T094931Z
UID:10005059-1854786600-1854792000@mnw-dd.de
SUMMARY:Treidlertreff
DESCRIPTION:Jeden 2. Dienstag 11:00 Uhr im Monat im Stadtbezirksamt Loschwitz. \nProjektarbeitsgruppe zu Regionalgeschichte der „Bomätscher“-Männer/Treidler die die Schiffe die Elbe hinaufgezogen. Hier findet Erinnerungsarbeit statt. Der Treidlerpfad wird historisch aufgearbeitet\, gepflegt und bereichert.
URL:https://mnw-dd.de/termin/treidlertreff-2/2028-10-10
CATEGORIES:Seniorenarbeit
END:VEVENT
END:VCALENDAR