BEGIN:VCALENDAR
VERSION:2.0
PRODID:-//Männernetzwerk Dresden e. V. - ECPv6.15.20//NONSGML v1.0//EN
CALSCALE:GREGORIAN
METHOD:PUBLISH
X-WR-CALNAME:Männernetzwerk Dresden e. V.
X-ORIGINAL-URL:https://mnw-dd.de
X-WR-CALDESC:Veranstaltungen für Männernetzwerk Dresden e. V.
REFRESH-INTERVAL;VALUE=DURATION:PT1H
X-Robots-Tag:noindex
X-PUBLISHED-TTL:PT1H
BEGIN:VTIMEZONE
TZID:Europe/Berlin
BEGIN:DAYLIGHT
TZOFFSETFROM:+0100
TZOFFSETTO:+0200
TZNAME:CEST
DTSTART:20250330T010000
END:DAYLIGHT
BEGIN:STANDARD
TZOFFSETFROM:+0200
TZOFFSETTO:+0100
TZNAME:CET
DTSTART:20251026T010000
END:STANDARD
BEGIN:DAYLIGHT
TZOFFSETFROM:+0100
TZOFFSETTO:+0200
TZNAME:CEST
DTSTART:20260329T010000
END:DAYLIGHT
BEGIN:STANDARD
TZOFFSETFROM:+0200
TZOFFSETTO:+0100
TZNAME:CET
DTSTART:20261025T010000
END:STANDARD
BEGIN:DAYLIGHT
TZOFFSETFROM:+0100
TZOFFSETTO:+0200
TZNAME:CEST
DTSTART:20270328T010000
END:DAYLIGHT
BEGIN:STANDARD
TZOFFSETFROM:+0200
TZOFFSETTO:+0100
TZNAME:CET
DTSTART:20271031T010000
END:STANDARD
END:VTIMEZONE
BEGIN:VEVENT
DTSTART;TZID=Europe/Berlin:20260428T130000
DTEND;TZID=Europe/Berlin:20260428T150000
DTSTAMP:20260422T170331
CREATED:20240221T103047Z
LAST-MODIFIED:20251201T135309Z
UID:10004485-1777381200-1777388400@mnw-dd.de
SUMMARY:Offene Werkstatt - Bitte um Anmeldung
DESCRIPTION:Offene Holzwerkstatt für erwerbslose Männer
URL:https://mnw-dd.de/termin/offene-werkstatt-bitte-um-anmeldung/2026-04-28
LOCATION:Männernetzwerk Dresden e.V.\, Schwepnitzer Str. 10\, Dresden
CATEGORIES:p3|sozial
END:VEVENT
BEGIN:VEVENT
DTSTART;TZID=Europe/Berlin:20260505T130000
DTEND;TZID=Europe/Berlin:20260505T150000
DTSTAMP:20260422T170331
CREATED:20240221T103047Z
LAST-MODIFIED:20251201T135309Z
UID:10004486-1777986000-1777993200@mnw-dd.de
SUMMARY:Offene Werkstatt - Bitte um Anmeldung
DESCRIPTION:Offene Holzwerkstatt für erwerbslose Männer
URL:https://mnw-dd.de/termin/offene-werkstatt-bitte-um-anmeldung/2026-05-05
LOCATION:Männernetzwerk Dresden e.V.\, Schwepnitzer Str. 10\, Dresden
CATEGORIES:p3|sozial
END:VEVENT
BEGIN:VEVENT
DTSTART;TZID=Europe/Berlin:20260512T130000
DTEND;TZID=Europe/Berlin:20260512T150000
DTSTAMP:20260422T170331
CREATED:20240221T103047Z
LAST-MODIFIED:20251201T135309Z
UID:10004487-1778590800-1778598000@mnw-dd.de
SUMMARY:Offene Werkstatt - Bitte um Anmeldung
DESCRIPTION:Offene Holzwerkstatt für erwerbslose Männer
URL:https://mnw-dd.de/termin/offene-werkstatt-bitte-um-anmeldung/2026-05-12
LOCATION:Männernetzwerk Dresden e.V.\, Schwepnitzer Str. 10\, Dresden
CATEGORIES:p3|sozial
END:VEVENT
BEGIN:VEVENT
DTSTART;TZID=Europe/Berlin:20260519T130000
DTEND;TZID=Europe/Berlin:20260519T150000
DTSTAMP:20260422T170331
CREATED:20240221T103047Z
LAST-MODIFIED:20251201T135309Z
UID:10004488-1779195600-1779202800@mnw-dd.de
SUMMARY:Offene Werkstatt - Bitte um Anmeldung
DESCRIPTION:Offene Holzwerkstatt für erwerbslose Männer
URL:https://mnw-dd.de/termin/offene-werkstatt-bitte-um-anmeldung/2026-05-19
LOCATION:Männernetzwerk Dresden e.V.\, Schwepnitzer Str. 10\, Dresden
CATEGORIES:p3|sozial
END:VEVENT
BEGIN:VEVENT
DTSTART;TZID=Europe/Berlin:20260526T130000
DTEND;TZID=Europe/Berlin:20260526T150000
DTSTAMP:20260422T170331
CREATED:20240221T103047Z
LAST-MODIFIED:20251201T135309Z
UID:10004489-1779800400-1779807600@mnw-dd.de
SUMMARY:Offene Werkstatt - Bitte um Anmeldung
DESCRIPTION:Offene Holzwerkstatt für erwerbslose Männer
URL:https://mnw-dd.de/termin/offene-werkstatt-bitte-um-anmeldung/2026-05-26
LOCATION:Männernetzwerk Dresden e.V.\, Schwepnitzer Str. 10\, Dresden
CATEGORIES:p3|sozial
END:VEVENT
BEGIN:VEVENT
DTSTART;TZID=Europe/Berlin:20260602T130000
DTEND;TZID=Europe/Berlin:20260602T150000
DTSTAMP:20260422T170331
CREATED:20240221T103047Z
LAST-MODIFIED:20251201T135309Z
UID:10004490-1780405200-1780412400@mnw-dd.de
SUMMARY:Offene Werkstatt - Bitte um Anmeldung
DESCRIPTION:Offene Holzwerkstatt für erwerbslose Männer
URL:https://mnw-dd.de/termin/offene-werkstatt-bitte-um-anmeldung/2026-06-02
LOCATION:Männernetzwerk Dresden e.V.\, Schwepnitzer Str. 10\, Dresden
CATEGORIES:p3|sozial
END:VEVENT
BEGIN:VEVENT
DTSTART;TZID=Europe/Berlin:20260609T130000
DTEND;TZID=Europe/Berlin:20260609T150000
DTSTAMP:20260422T170331
CREATED:20240221T103047Z
LAST-MODIFIED:20251201T135309Z
UID:10004491-1781010000-1781017200@mnw-dd.de
SUMMARY:Offene Werkstatt - Bitte um Anmeldung
DESCRIPTION:Offene Holzwerkstatt für erwerbslose Männer
URL:https://mnw-dd.de/termin/offene-werkstatt-bitte-um-anmeldung/2026-06-09
LOCATION:Männernetzwerk Dresden e.V.\, Schwepnitzer Str. 10\, Dresden
CATEGORIES:p3|sozial
END:VEVENT
BEGIN:VEVENT
DTSTART;TZID=Europe/Berlin:20260616T130000
DTEND;TZID=Europe/Berlin:20260616T150000
DTSTAMP:20260422T170331
CREATED:20240221T103047Z
LAST-MODIFIED:20251201T135309Z
UID:10004492-1781614800-1781622000@mnw-dd.de
SUMMARY:Offene Werkstatt - Bitte um Anmeldung
DESCRIPTION:Offene Holzwerkstatt für erwerbslose Männer
URL:https://mnw-dd.de/termin/offene-werkstatt-bitte-um-anmeldung/2026-06-16
LOCATION:Männernetzwerk Dresden e.V.\, Schwepnitzer Str. 10\, Dresden
CATEGORIES:p3|sozial
END:VEVENT
BEGIN:VEVENT
DTSTART;TZID=Europe/Berlin:20260623T130000
DTEND;TZID=Europe/Berlin:20260623T150000
DTSTAMP:20260422T170331
CREATED:20240221T103047Z
LAST-MODIFIED:20251201T135309Z
UID:10004493-1782219600-1782226800@mnw-dd.de
SUMMARY:Offene Werkstatt - Bitte um Anmeldung
DESCRIPTION:Offene Holzwerkstatt für erwerbslose Männer
URL:https://mnw-dd.de/termin/offene-werkstatt-bitte-um-anmeldung/2026-06-23
LOCATION:Männernetzwerk Dresden e.V.\, Schwepnitzer Str. 10\, Dresden
CATEGORIES:p3|sozial
END:VEVENT
BEGIN:VEVENT
DTSTART;TZID=Europe/Berlin:20260630T130000
DTEND;TZID=Europe/Berlin:20260630T150000
DTSTAMP:20260422T170331
CREATED:20240221T103047Z
LAST-MODIFIED:20251201T135309Z
UID:10004494-1782824400-1782831600@mnw-dd.de
SUMMARY:Offene Werkstatt - Bitte um Anmeldung
DESCRIPTION:Offene Holzwerkstatt für erwerbslose Männer
URL:https://mnw-dd.de/termin/offene-werkstatt-bitte-um-anmeldung/2026-06-30
LOCATION:Männernetzwerk Dresden e.V.\, Schwepnitzer Str. 10\, Dresden
CATEGORIES:p3|sozial
END:VEVENT
BEGIN:VEVENT
DTSTART;TZID=Europe/Berlin:20260707T130000
DTEND;TZID=Europe/Berlin:20260707T150000
DTSTAMP:20260422T170331
CREATED:20240221T103047Z
LAST-MODIFIED:20251201T135309Z
UID:10004495-1783429200-1783436400@mnw-dd.de
SUMMARY:Offene Werkstatt - Bitte um Anmeldung
DESCRIPTION:Offene Holzwerkstatt für erwerbslose Männer
URL:https://mnw-dd.de/termin/offene-werkstatt-bitte-um-anmeldung/2026-07-07
LOCATION:Männernetzwerk Dresden e.V.\, Schwepnitzer Str. 10\, Dresden
CATEGORIES:p3|sozial
END:VEVENT
BEGIN:VEVENT
DTSTART;TZID=Europe/Berlin:20260714T130000
DTEND;TZID=Europe/Berlin:20260714T150000
DTSTAMP:20260422T170331
CREATED:20240221T103047Z
LAST-MODIFIED:20251201T135309Z
UID:10004496-1784034000-1784041200@mnw-dd.de
SUMMARY:Offene Werkstatt - Bitte um Anmeldung
DESCRIPTION:Offene Holzwerkstatt für erwerbslose Männer
URL:https://mnw-dd.de/termin/offene-werkstatt-bitte-um-anmeldung/2026-07-14
LOCATION:Männernetzwerk Dresden e.V.\, Schwepnitzer Str. 10\, Dresden
CATEGORIES:p3|sozial
END:VEVENT
BEGIN:VEVENT
DTSTART;TZID=Europe/Berlin:20260721T130000
DTEND;TZID=Europe/Berlin:20260721T150000
DTSTAMP:20260422T170331
CREATED:20240221T103047Z
LAST-MODIFIED:20251201T135309Z
UID:10004497-1784638800-1784646000@mnw-dd.de
SUMMARY:Offene Werkstatt - Bitte um Anmeldung
DESCRIPTION:Offene Holzwerkstatt für erwerbslose Männer
URL:https://mnw-dd.de/termin/offene-werkstatt-bitte-um-anmeldung/2026-07-21
LOCATION:Männernetzwerk Dresden e.V.\, Schwepnitzer Str. 10\, Dresden
CATEGORIES:p3|sozial
END:VEVENT
BEGIN:VEVENT
DTSTART;TZID=Europe/Berlin:20260728T130000
DTEND;TZID=Europe/Berlin:20260728T150000
DTSTAMP:20260422T170331
CREATED:20240221T103047Z
LAST-MODIFIED:20251201T135309Z
UID:10004498-1785243600-1785250800@mnw-dd.de
SUMMARY:Offene Werkstatt - Bitte um Anmeldung
DESCRIPTION:Offene Holzwerkstatt für erwerbslose Männer
URL:https://mnw-dd.de/termin/offene-werkstatt-bitte-um-anmeldung/2026-07-28
LOCATION:Männernetzwerk Dresden e.V.\, Schwepnitzer Str. 10\, Dresden
CATEGORIES:p3|sozial
END:VEVENT
BEGIN:VEVENT
DTSTART;TZID=Europe/Berlin:20260804T130000
DTEND;TZID=Europe/Berlin:20260804T150000
DTSTAMP:20260422T170331
CREATED:20240221T103047Z
LAST-MODIFIED:20251201T135309Z
UID:10004499-1785848400-1785855600@mnw-dd.de
SUMMARY:Offene Werkstatt - Bitte um Anmeldung
DESCRIPTION:Offene Holzwerkstatt für erwerbslose Männer
URL:https://mnw-dd.de/termin/offene-werkstatt-bitte-um-anmeldung/2026-08-04
LOCATION:Männernetzwerk Dresden e.V.\, Schwepnitzer Str. 10\, Dresden
CATEGORIES:p3|sozial
END:VEVENT
BEGIN:VEVENT
DTSTART;TZID=Europe/Berlin:20260811T130000
DTEND;TZID=Europe/Berlin:20260811T150000
DTSTAMP:20260422T170331
CREATED:20240221T103047Z
LAST-MODIFIED:20251201T135309Z
UID:10004500-1786453200-1786460400@mnw-dd.de
SUMMARY:Offene Werkstatt - Bitte um Anmeldung
DESCRIPTION:Offene Holzwerkstatt für erwerbslose Männer
URL:https://mnw-dd.de/termin/offene-werkstatt-bitte-um-anmeldung/2026-08-11
LOCATION:Männernetzwerk Dresden e.V.\, Schwepnitzer Str. 10\, Dresden
CATEGORIES:p3|sozial
END:VEVENT
BEGIN:VEVENT
DTSTART;TZID=Europe/Berlin:20260818T130000
DTEND;TZID=Europe/Berlin:20260818T150000
DTSTAMP:20260422T170331
CREATED:20240221T103047Z
LAST-MODIFIED:20251201T135309Z
UID:10004501-1787058000-1787065200@mnw-dd.de
SUMMARY:Offene Werkstatt - Bitte um Anmeldung
DESCRIPTION:Offene Holzwerkstatt für erwerbslose Männer
URL:https://mnw-dd.de/termin/offene-werkstatt-bitte-um-anmeldung/2026-08-18
LOCATION:Männernetzwerk Dresden e.V.\, Schwepnitzer Str. 10\, Dresden
CATEGORIES:p3|sozial
END:VEVENT
BEGIN:VEVENT
DTSTART;TZID=Europe/Berlin:20260825T130000
DTEND;TZID=Europe/Berlin:20260825T150000
DTSTAMP:20260422T170331
CREATED:20240221T103047Z
LAST-MODIFIED:20251201T135309Z
UID:10004502-1787662800-1787670000@mnw-dd.de
SUMMARY:Offene Werkstatt - Bitte um Anmeldung
DESCRIPTION:Offene Holzwerkstatt für erwerbslose Männer
URL:https://mnw-dd.de/termin/offene-werkstatt-bitte-um-anmeldung/2026-08-25
LOCATION:Männernetzwerk Dresden e.V.\, Schwepnitzer Str. 10\, Dresden
CATEGORIES:p3|sozial
END:VEVENT
BEGIN:VEVENT
DTSTART;TZID=Europe/Berlin:20260901T130000
DTEND;TZID=Europe/Berlin:20260901T150000
DTSTAMP:20260422T170331
CREATED:20240221T103047Z
LAST-MODIFIED:20251201T135309Z
UID:10004503-1788267600-1788274800@mnw-dd.de
SUMMARY:Offene Werkstatt - Bitte um Anmeldung
DESCRIPTION:Offene Holzwerkstatt für erwerbslose Männer
URL:https://mnw-dd.de/termin/offene-werkstatt-bitte-um-anmeldung/2026-09-01
LOCATION:Männernetzwerk Dresden e.V.\, Schwepnitzer Str. 10\, Dresden
CATEGORIES:p3|sozial
END:VEVENT
BEGIN:VEVENT
DTSTART;TZID=Europe/Berlin:20260908T130000
DTEND;TZID=Europe/Berlin:20260908T150000
DTSTAMP:20260422T170331
CREATED:20240221T103047Z
LAST-MODIFIED:20251201T135309Z
UID:10004504-1788872400-1788879600@mnw-dd.de
SUMMARY:Offene Werkstatt - Bitte um Anmeldung
DESCRIPTION:Offene Holzwerkstatt für erwerbslose Männer
URL:https://mnw-dd.de/termin/offene-werkstatt-bitte-um-anmeldung/2026-09-08
LOCATION:Männernetzwerk Dresden e.V.\, Schwepnitzer Str. 10\, Dresden
CATEGORIES:p3|sozial
END:VEVENT
BEGIN:VEVENT
DTSTART;TZID=Europe/Berlin:20260915T130000
DTEND;TZID=Europe/Berlin:20260915T150000
DTSTAMP:20260422T170331
CREATED:20240221T103047Z
LAST-MODIFIED:20251201T135309Z
UID:10004505-1789477200-1789484400@mnw-dd.de
SUMMARY:Offene Werkstatt - Bitte um Anmeldung
DESCRIPTION:Offene Holzwerkstatt für erwerbslose Männer
URL:https://mnw-dd.de/termin/offene-werkstatt-bitte-um-anmeldung/2026-09-15
LOCATION:Männernetzwerk Dresden e.V.\, Schwepnitzer Str. 10\, Dresden
CATEGORIES:p3|sozial
END:VEVENT
BEGIN:VEVENT
DTSTART;TZID=Europe/Berlin:20260922T130000
DTEND;TZID=Europe/Berlin:20260922T150000
DTSTAMP:20260422T170332
CREATED:20240221T103047Z
LAST-MODIFIED:20251201T135309Z
UID:10004506-1790082000-1790089200@mnw-dd.de
SUMMARY:Offene Werkstatt - Bitte um Anmeldung
DESCRIPTION:Offene Holzwerkstatt für erwerbslose Männer
URL:https://mnw-dd.de/termin/offene-werkstatt-bitte-um-anmeldung/2026-09-22
LOCATION:Männernetzwerk Dresden e.V.\, Schwepnitzer Str. 10\, Dresden
CATEGORIES:p3|sozial
END:VEVENT
BEGIN:VEVENT
DTSTART;TZID=Europe/Berlin:20260929T130000
DTEND;TZID=Europe/Berlin:20260929T150000
DTSTAMP:20260422T170332
CREATED:20240221T103047Z
LAST-MODIFIED:20251201T135309Z
UID:10004507-1790686800-1790694000@mnw-dd.de
SUMMARY:Offene Werkstatt - Bitte um Anmeldung
DESCRIPTION:Offene Holzwerkstatt für erwerbslose Männer
URL:https://mnw-dd.de/termin/offene-werkstatt-bitte-um-anmeldung/2026-09-29
LOCATION:Männernetzwerk Dresden e.V.\, Schwepnitzer Str. 10\, Dresden
CATEGORIES:p3|sozial
END:VEVENT
BEGIN:VEVENT
DTSTART;TZID=Europe/Berlin:20261006T130000
DTEND;TZID=Europe/Berlin:20261006T150000
DTSTAMP:20260422T170332
CREATED:20240221T103047Z
LAST-MODIFIED:20251201T135309Z
UID:10004508-1791291600-1791298800@mnw-dd.de
SUMMARY:Offene Werkstatt - Bitte um Anmeldung
DESCRIPTION:Offene Holzwerkstatt für erwerbslose Männer
URL:https://mnw-dd.de/termin/offene-werkstatt-bitte-um-anmeldung/2026-10-06
LOCATION:Männernetzwerk Dresden e.V.\, Schwepnitzer Str. 10\, Dresden
CATEGORIES:p3|sozial
END:VEVENT
BEGIN:VEVENT
DTSTART;TZID=Europe/Berlin:20261013T130000
DTEND;TZID=Europe/Berlin:20261013T150000
DTSTAMP:20260422T170332
CREATED:20240221T103047Z
LAST-MODIFIED:20251201T135309Z
UID:10004509-1791896400-1791903600@mnw-dd.de
SUMMARY:Offene Werkstatt - Bitte um Anmeldung
DESCRIPTION:Offene Holzwerkstatt für erwerbslose Männer
URL:https://mnw-dd.de/termin/offene-werkstatt-bitte-um-anmeldung/2026-10-13
LOCATION:Männernetzwerk Dresden e.V.\, Schwepnitzer Str. 10\, Dresden
CATEGORIES:p3|sozial
END:VEVENT
BEGIN:VEVENT
DTSTART;TZID=Europe/Berlin:20261020T130000
DTEND;TZID=Europe/Berlin:20261020T150000
DTSTAMP:20260422T170332
CREATED:20240221T103047Z
LAST-MODIFIED:20251201T135309Z
UID:10004510-1792501200-1792508400@mnw-dd.de
SUMMARY:Offene Werkstatt - Bitte um Anmeldung
DESCRIPTION:Offene Holzwerkstatt für erwerbslose Männer
URL:https://mnw-dd.de/termin/offene-werkstatt-bitte-um-anmeldung/2026-10-20
LOCATION:Männernetzwerk Dresden e.V.\, Schwepnitzer Str. 10\, Dresden
CATEGORIES:p3|sozial
END:VEVENT
BEGIN:VEVENT
DTSTART;TZID=Europe/Berlin:20261027T130000
DTEND;TZID=Europe/Berlin:20261027T150000
DTSTAMP:20260422T170332
CREATED:20240221T103047Z
LAST-MODIFIED:20251201T135309Z
UID:10004511-1793106000-1793113200@mnw-dd.de
SUMMARY:Offene Werkstatt - Bitte um Anmeldung
DESCRIPTION:Offene Holzwerkstatt für erwerbslose Männer
URL:https://mnw-dd.de/termin/offene-werkstatt-bitte-um-anmeldung/2026-10-27
LOCATION:Männernetzwerk Dresden e.V.\, Schwepnitzer Str. 10\, Dresden
CATEGORIES:p3|sozial
END:VEVENT
BEGIN:VEVENT
DTSTART;TZID=Europe/Berlin:20261103T130000
DTEND;TZID=Europe/Berlin:20261103T150000
DTSTAMP:20260422T170332
CREATED:20240221T103047Z
LAST-MODIFIED:20251201T135309Z
UID:10004512-1793710800-1793718000@mnw-dd.de
SUMMARY:Offene Werkstatt - Bitte um Anmeldung
DESCRIPTION:Offene Holzwerkstatt für erwerbslose Männer
URL:https://mnw-dd.de/termin/offene-werkstatt-bitte-um-anmeldung/2026-11-03
LOCATION:Männernetzwerk Dresden e.V.\, Schwepnitzer Str. 10\, Dresden
CATEGORIES:p3|sozial
END:VEVENT
BEGIN:VEVENT
DTSTART;TZID=Europe/Berlin:20261110T130000
DTEND;TZID=Europe/Berlin:20261110T150000
DTSTAMP:20260422T170332
CREATED:20240221T103047Z
LAST-MODIFIED:20251201T135309Z
UID:10004513-1794315600-1794322800@mnw-dd.de
SUMMARY:Offene Werkstatt - Bitte um Anmeldung
DESCRIPTION:Offene Holzwerkstatt für erwerbslose Männer
URL:https://mnw-dd.de/termin/offene-werkstatt-bitte-um-anmeldung/2026-11-10
LOCATION:Männernetzwerk Dresden e.V.\, Schwepnitzer Str. 10\, Dresden
CATEGORIES:p3|sozial
END:VEVENT
BEGIN:VEVENT
DTSTART;TZID=Europe/Berlin:20261117T130000
DTEND;TZID=Europe/Berlin:20261117T150000
DTSTAMP:20260422T170332
CREATED:20240221T103047Z
LAST-MODIFIED:20251201T135309Z
UID:10004514-1794920400-1794927600@mnw-dd.de
SUMMARY:Offene Werkstatt - Bitte um Anmeldung
DESCRIPTION:Offene Holzwerkstatt für erwerbslose Männer
URL:https://mnw-dd.de/termin/offene-werkstatt-bitte-um-anmeldung/2026-11-17
LOCATION:Männernetzwerk Dresden e.V.\, Schwepnitzer Str. 10\, Dresden
CATEGORIES:p3|sozial
END:VEVENT
END:VCALENDAR