BEGIN:VCALENDAR
VERSION:2.0
PRODID:-//Männernetzwerk Dresden e. V. - ECPv6.15.20//NONSGML v1.0//EN
CALSCALE:GREGORIAN
METHOD:PUBLISH
X-WR-CALNAME:Männernetzwerk Dresden e. V.
X-ORIGINAL-URL:https://mnw-dd.de
X-WR-CALDESC:Veranstaltungen für Männernetzwerk Dresden e. V.
REFRESH-INTERVAL;VALUE=DURATION:PT1H
X-Robots-Tag:noindex
X-PUBLISHED-TTL:PT1H
BEGIN:VTIMEZONE
TZID:Europe/Berlin
BEGIN:DAYLIGHT
TZOFFSETFROM:+0100
TZOFFSETTO:+0200
TZNAME:CEST
DTSTART:20250330T010000
END:DAYLIGHT
BEGIN:STANDARD
TZOFFSETFROM:+0200
TZOFFSETTO:+0100
TZNAME:CET
DTSTART:20251026T010000
END:STANDARD
BEGIN:DAYLIGHT
TZOFFSETFROM:+0100
TZOFFSETTO:+0200
TZNAME:CEST
DTSTART:20260329T010000
END:DAYLIGHT
BEGIN:STANDARD
TZOFFSETFROM:+0200
TZOFFSETTO:+0100
TZNAME:CET
DTSTART:20261025T010000
END:STANDARD
BEGIN:DAYLIGHT
TZOFFSETFROM:+0100
TZOFFSETTO:+0200
TZNAME:CEST
DTSTART:20270328T010000
END:DAYLIGHT
BEGIN:STANDARD
TZOFFSETFROM:+0200
TZOFFSETTO:+0100
TZNAME:CET
DTSTART:20271031T010000
END:STANDARD
END:VTIMEZONE
BEGIN:VEVENT
DTSTART;TZID=Europe/Berlin:20260427T160000
DTEND;TZID=Europe/Berlin:20260427T180000
DTSTAMP:20260422T193134
CREATED:20240906T090755Z
LAST-MODIFIED:20250527T091338Z
UID:10004738-1777305600-1777312800@mnw-dd.de
SUMMARY:Papa Café im Familienzentrum Pauline
DESCRIPTION:Montags von 16 – 17 Uhr findet das Papa Café im Familienzentrum Pauline statt. \nNähere Informationen unter: https://pauline-dresden.de/
URL:https://mnw-dd.de/termin/papa-cafe-im-familienzentrum-pauline-3/2026-04-27
LOCATION:Familienzentrum Pauline in Gruna\, Papstdorfer Straße 41\, Dresden\, 01127\, Germany
CATEGORIES:Papada
END:VEVENT
BEGIN:VEVENT
DTSTART;TZID=Europe/Berlin:20260504T160000
DTEND;TZID=Europe/Berlin:20260504T180000
DTSTAMP:20260422T193134
CREATED:20240906T090755Z
LAST-MODIFIED:20250527T091338Z
UID:10000421-1777910400-1777917600@mnw-dd.de
SUMMARY:Papa Café im Familienzentrum Pauline
DESCRIPTION:Montags von 16 – 17 Uhr findet das Papa Café im Familienzentrum Pauline statt. \nNähere Informationen unter: https://pauline-dresden.de/
URL:https://mnw-dd.de/termin/papa-cafe-im-familienzentrum-pauline-3/2026-05-04
LOCATION:Familienzentrum Pauline in Gruna\, Papstdorfer Straße 41\, Dresden\, 01127\, Germany
CATEGORIES:Papada
END:VEVENT
BEGIN:VEVENT
DTSTART;TZID=Europe/Berlin:20260511T160000
DTEND;TZID=Europe/Berlin:20260511T180000
DTSTAMP:20260422T193134
CREATED:20240906T090755Z
LAST-MODIFIED:20250527T091338Z
UID:10004739-1778515200-1778522400@mnw-dd.de
SUMMARY:Papa Café im Familienzentrum Pauline
DESCRIPTION:Montags von 16 – 17 Uhr findet das Papa Café im Familienzentrum Pauline statt. \nNähere Informationen unter: https://pauline-dresden.de/
URL:https://mnw-dd.de/termin/papa-cafe-im-familienzentrum-pauline-3/2026-05-11
LOCATION:Familienzentrum Pauline in Gruna\, Papstdorfer Straße 41\, Dresden\, 01127\, Germany
CATEGORIES:Papada
END:VEVENT
BEGIN:VEVENT
DTSTART;TZID=Europe/Berlin:20260518T160000
DTEND;TZID=Europe/Berlin:20260518T180000
DTSTAMP:20260422T193134
CREATED:20240906T090755Z
LAST-MODIFIED:20250527T091338Z
UID:10004740-1779120000-1779127200@mnw-dd.de
SUMMARY:Papa Café im Familienzentrum Pauline
DESCRIPTION:Montags von 16 – 17 Uhr findet das Papa Café im Familienzentrum Pauline statt. \nNähere Informationen unter: https://pauline-dresden.de/
URL:https://mnw-dd.de/termin/papa-cafe-im-familienzentrum-pauline-3/2026-05-18
LOCATION:Familienzentrum Pauline in Gruna\, Papstdorfer Straße 41\, Dresden\, 01127\, Germany
CATEGORIES:Papada
END:VEVENT
BEGIN:VEVENT
DTSTART;TZID=Europe/Berlin:20260525T160000
DTEND;TZID=Europe/Berlin:20260525T180000
DTSTAMP:20260422T193134
CREATED:20240906T090755Z
LAST-MODIFIED:20250527T091338Z
UID:10004741-1779724800-1779732000@mnw-dd.de
SUMMARY:Papa Café im Familienzentrum Pauline
DESCRIPTION:Montags von 16 – 17 Uhr findet das Papa Café im Familienzentrum Pauline statt. \nNähere Informationen unter: https://pauline-dresden.de/
URL:https://mnw-dd.de/termin/papa-cafe-im-familienzentrum-pauline-3/2026-05-25
LOCATION:Familienzentrum Pauline in Gruna\, Papstdorfer Straße 41\, Dresden\, 01127\, Germany
CATEGORIES:Papada
END:VEVENT
BEGIN:VEVENT
DTSTART;TZID=Europe/Berlin:20260601T160000
DTEND;TZID=Europe/Berlin:20260601T180000
DTSTAMP:20260422T193134
CREATED:20240906T090755Z
LAST-MODIFIED:20250527T091338Z
UID:10000422-1780329600-1780336800@mnw-dd.de
SUMMARY:Papa Café im Familienzentrum Pauline
DESCRIPTION:Montags von 16 – 17 Uhr findet das Papa Café im Familienzentrum Pauline statt. \nNähere Informationen unter: https://pauline-dresden.de/
URL:https://mnw-dd.de/termin/papa-cafe-im-familienzentrum-pauline-3/2026-06-01
LOCATION:Familienzentrum Pauline in Gruna\, Papstdorfer Straße 41\, Dresden\, 01127\, Germany
CATEGORIES:Papada
END:VEVENT
BEGIN:VEVENT
DTSTART;TZID=Europe/Berlin:20260608T160000
DTEND;TZID=Europe/Berlin:20260608T180000
DTSTAMP:20260422T193134
CREATED:20240906T090755Z
LAST-MODIFIED:20250527T091338Z
UID:10004742-1780934400-1780941600@mnw-dd.de
SUMMARY:Papa Café im Familienzentrum Pauline
DESCRIPTION:Montags von 16 – 17 Uhr findet das Papa Café im Familienzentrum Pauline statt. \nNähere Informationen unter: https://pauline-dresden.de/
URL:https://mnw-dd.de/termin/papa-cafe-im-familienzentrum-pauline-3/2026-06-08
LOCATION:Familienzentrum Pauline in Gruna\, Papstdorfer Straße 41\, Dresden\, 01127\, Germany
CATEGORIES:Papada
END:VEVENT
BEGIN:VEVENT
DTSTART;TZID=Europe/Berlin:20260615T160000
DTEND;TZID=Europe/Berlin:20260615T180000
DTSTAMP:20260422T193134
CREATED:20240906T090755Z
LAST-MODIFIED:20250527T091338Z
UID:10004743-1781539200-1781546400@mnw-dd.de
SUMMARY:Papa Café im Familienzentrum Pauline
DESCRIPTION:Montags von 16 – 17 Uhr findet das Papa Café im Familienzentrum Pauline statt. \nNähere Informationen unter: https://pauline-dresden.de/
URL:https://mnw-dd.de/termin/papa-cafe-im-familienzentrum-pauline-3/2026-06-15
LOCATION:Familienzentrum Pauline in Gruna\, Papstdorfer Straße 41\, Dresden\, 01127\, Germany
CATEGORIES:Papada
END:VEVENT
BEGIN:VEVENT
DTSTART;TZID=Europe/Berlin:20260622T160000
DTEND;TZID=Europe/Berlin:20260622T180000
DTSTAMP:20260422T193134
CREATED:20240906T090755Z
LAST-MODIFIED:20250527T091338Z
UID:10004744-1782144000-1782151200@mnw-dd.de
SUMMARY:Papa Café im Familienzentrum Pauline
DESCRIPTION:Montags von 16 – 17 Uhr findet das Papa Café im Familienzentrum Pauline statt. \nNähere Informationen unter: https://pauline-dresden.de/
URL:https://mnw-dd.de/termin/papa-cafe-im-familienzentrum-pauline-3/2026-06-22
LOCATION:Familienzentrum Pauline in Gruna\, Papstdorfer Straße 41\, Dresden\, 01127\, Germany
CATEGORIES:Papada
END:VEVENT
BEGIN:VEVENT
DTSTART;TZID=Europe/Berlin:20260629T160000
DTEND;TZID=Europe/Berlin:20260629T180000
DTSTAMP:20260422T193134
CREATED:20240906T090755Z
LAST-MODIFIED:20250527T091338Z
UID:10004745-1782748800-1782756000@mnw-dd.de
SUMMARY:Papa Café im Familienzentrum Pauline
DESCRIPTION:Montags von 16 – 17 Uhr findet das Papa Café im Familienzentrum Pauline statt. \nNähere Informationen unter: https://pauline-dresden.de/
URL:https://mnw-dd.de/termin/papa-cafe-im-familienzentrum-pauline-3/2026-06-29
LOCATION:Familienzentrum Pauline in Gruna\, Papstdorfer Straße 41\, Dresden\, 01127\, Germany
CATEGORIES:Papada
END:VEVENT
BEGIN:VEVENT
DTSTART;TZID=Europe/Berlin:20260706T160000
DTEND;TZID=Europe/Berlin:20260706T180000
DTSTAMP:20260422T193134
CREATED:20240906T090755Z
LAST-MODIFIED:20250527T091338Z
UID:10000423-1783353600-1783360800@mnw-dd.de
SUMMARY:Papa Café im Familienzentrum Pauline
DESCRIPTION:Montags von 16 – 17 Uhr findet das Papa Café im Familienzentrum Pauline statt. \nNähere Informationen unter: https://pauline-dresden.de/
URL:https://mnw-dd.de/termin/papa-cafe-im-familienzentrum-pauline-3/2026-07-06
LOCATION:Familienzentrum Pauline in Gruna\, Papstdorfer Straße 41\, Dresden\, 01127\, Germany
CATEGORIES:Papada
END:VEVENT
BEGIN:VEVENT
DTSTART;TZID=Europe/Berlin:20260713T160000
DTEND;TZID=Europe/Berlin:20260713T180000
DTSTAMP:20260422T193134
CREATED:20240906T090755Z
LAST-MODIFIED:20250527T091338Z
UID:10004746-1783958400-1783965600@mnw-dd.de
SUMMARY:Papa Café im Familienzentrum Pauline
DESCRIPTION:Montags von 16 – 17 Uhr findet das Papa Café im Familienzentrum Pauline statt. \nNähere Informationen unter: https://pauline-dresden.de/
URL:https://mnw-dd.de/termin/papa-cafe-im-familienzentrum-pauline-3/2026-07-13
LOCATION:Familienzentrum Pauline in Gruna\, Papstdorfer Straße 41\, Dresden\, 01127\, Germany
CATEGORIES:Papada
END:VEVENT
BEGIN:VEVENT
DTSTART;TZID=Europe/Berlin:20260720T160000
DTEND;TZID=Europe/Berlin:20260720T180000
DTSTAMP:20260422T193134
CREATED:20240906T090755Z
LAST-MODIFIED:20250527T091338Z
UID:10004747-1784563200-1784570400@mnw-dd.de
SUMMARY:Papa Café im Familienzentrum Pauline
DESCRIPTION:Montags von 16 – 17 Uhr findet das Papa Café im Familienzentrum Pauline statt. \nNähere Informationen unter: https://pauline-dresden.de/
URL:https://mnw-dd.de/termin/papa-cafe-im-familienzentrum-pauline-3/2026-07-20
LOCATION:Familienzentrum Pauline in Gruna\, Papstdorfer Straße 41\, Dresden\, 01127\, Germany
CATEGORIES:Papada
END:VEVENT
BEGIN:VEVENT
DTSTART;TZID=Europe/Berlin:20260727T160000
DTEND;TZID=Europe/Berlin:20260727T180000
DTSTAMP:20260422T193134
CREATED:20240906T090755Z
LAST-MODIFIED:20250527T091338Z
UID:10004748-1785168000-1785175200@mnw-dd.de
SUMMARY:Papa Café im Familienzentrum Pauline
DESCRIPTION:Montags von 16 – 17 Uhr findet das Papa Café im Familienzentrum Pauline statt. \nNähere Informationen unter: https://pauline-dresden.de/
URL:https://mnw-dd.de/termin/papa-cafe-im-familienzentrum-pauline-3/2026-07-27
LOCATION:Familienzentrum Pauline in Gruna\, Papstdorfer Straße 41\, Dresden\, 01127\, Germany
CATEGORIES:Papada
END:VEVENT
BEGIN:VEVENT
DTSTART;TZID=Europe/Berlin:20260803T160000
DTEND;TZID=Europe/Berlin:20260803T180000
DTSTAMP:20260422T193134
CREATED:20240906T090755Z
LAST-MODIFIED:20250527T091338Z
UID:10000424-1785772800-1785780000@mnw-dd.de
SUMMARY:Papa Café im Familienzentrum Pauline
DESCRIPTION:Montags von 16 – 17 Uhr findet das Papa Café im Familienzentrum Pauline statt. \nNähere Informationen unter: https://pauline-dresden.de/
URL:https://mnw-dd.de/termin/papa-cafe-im-familienzentrum-pauline-3/2026-08-03
LOCATION:Familienzentrum Pauline in Gruna\, Papstdorfer Straße 41\, Dresden\, 01127\, Germany
CATEGORIES:Papada
END:VEVENT
BEGIN:VEVENT
DTSTART;TZID=Europe/Berlin:20260810T160000
DTEND;TZID=Europe/Berlin:20260810T180000
DTSTAMP:20260422T193134
CREATED:20240906T090755Z
LAST-MODIFIED:20250527T091338Z
UID:10004749-1786377600-1786384800@mnw-dd.de
SUMMARY:Papa Café im Familienzentrum Pauline
DESCRIPTION:Montags von 16 – 17 Uhr findet das Papa Café im Familienzentrum Pauline statt. \nNähere Informationen unter: https://pauline-dresden.de/
URL:https://mnw-dd.de/termin/papa-cafe-im-familienzentrum-pauline-3/2026-08-10
LOCATION:Familienzentrum Pauline in Gruna\, Papstdorfer Straße 41\, Dresden\, 01127\, Germany
CATEGORIES:Papada
END:VEVENT
BEGIN:VEVENT
DTSTART;TZID=Europe/Berlin:20260817T160000
DTEND;TZID=Europe/Berlin:20260817T180000
DTSTAMP:20260422T193134
CREATED:20240906T090755Z
LAST-MODIFIED:20250527T091338Z
UID:10004750-1786982400-1786989600@mnw-dd.de
SUMMARY:Papa Café im Familienzentrum Pauline
DESCRIPTION:Montags von 16 – 17 Uhr findet das Papa Café im Familienzentrum Pauline statt. \nNähere Informationen unter: https://pauline-dresden.de/
URL:https://mnw-dd.de/termin/papa-cafe-im-familienzentrum-pauline-3/2026-08-17
LOCATION:Familienzentrum Pauline in Gruna\, Papstdorfer Straße 41\, Dresden\, 01127\, Germany
CATEGORIES:Papada
END:VEVENT
BEGIN:VEVENT
DTSTART;TZID=Europe/Berlin:20260824T160000
DTEND;TZID=Europe/Berlin:20260824T180000
DTSTAMP:20260422T193134
CREATED:20240906T090755Z
LAST-MODIFIED:20250527T091338Z
UID:10004751-1787587200-1787594400@mnw-dd.de
SUMMARY:Papa Café im Familienzentrum Pauline
DESCRIPTION:Montags von 16 – 17 Uhr findet das Papa Café im Familienzentrum Pauline statt. \nNähere Informationen unter: https://pauline-dresden.de/
URL:https://mnw-dd.de/termin/papa-cafe-im-familienzentrum-pauline-3/2026-08-24
LOCATION:Familienzentrum Pauline in Gruna\, Papstdorfer Straße 41\, Dresden\, 01127\, Germany
CATEGORIES:Papada
END:VEVENT
BEGIN:VEVENT
DTSTART;TZID=Europe/Berlin:20260831T160000
DTEND;TZID=Europe/Berlin:20260831T180000
DTSTAMP:20260422T193134
CREATED:20240906T090755Z
LAST-MODIFIED:20250527T091338Z
UID:10004752-1788192000-1788199200@mnw-dd.de
SUMMARY:Papa Café im Familienzentrum Pauline
DESCRIPTION:Montags von 16 – 17 Uhr findet das Papa Café im Familienzentrum Pauline statt. \nNähere Informationen unter: https://pauline-dresden.de/
URL:https://mnw-dd.de/termin/papa-cafe-im-familienzentrum-pauline-3/2026-08-31
LOCATION:Familienzentrum Pauline in Gruna\, Papstdorfer Straße 41\, Dresden\, 01127\, Germany
CATEGORIES:Papada
END:VEVENT
BEGIN:VEVENT
DTSTART;TZID=Europe/Berlin:20260907T160000
DTEND;TZID=Europe/Berlin:20260907T180000
DTSTAMP:20260422T193134
CREATED:20240906T090755Z
LAST-MODIFIED:20250527T091338Z
UID:10000425-1788796800-1788804000@mnw-dd.de
SUMMARY:Papa Café im Familienzentrum Pauline
DESCRIPTION:Montags von 16 – 17 Uhr findet das Papa Café im Familienzentrum Pauline statt. \nNähere Informationen unter: https://pauline-dresden.de/
URL:https://mnw-dd.de/termin/papa-cafe-im-familienzentrum-pauline-3/2026-09-07
LOCATION:Familienzentrum Pauline in Gruna\, Papstdorfer Straße 41\, Dresden\, 01127\, Germany
CATEGORIES:Papada
END:VEVENT
BEGIN:VEVENT
DTSTART;TZID=Europe/Berlin:20260914T160000
DTEND;TZID=Europe/Berlin:20260914T180000
DTSTAMP:20260422T193134
CREATED:20240906T090755Z
LAST-MODIFIED:20250527T091338Z
UID:10004753-1789401600-1789408800@mnw-dd.de
SUMMARY:Papa Café im Familienzentrum Pauline
DESCRIPTION:Montags von 16 – 17 Uhr findet das Papa Café im Familienzentrum Pauline statt. \nNähere Informationen unter: https://pauline-dresden.de/
URL:https://mnw-dd.de/termin/papa-cafe-im-familienzentrum-pauline-3/2026-09-14
LOCATION:Familienzentrum Pauline in Gruna\, Papstdorfer Straße 41\, Dresden\, 01127\, Germany
CATEGORIES:Papada
END:VEVENT
BEGIN:VEVENT
DTSTART;TZID=Europe/Berlin:20260921T160000
DTEND;TZID=Europe/Berlin:20260921T180000
DTSTAMP:20260422T193134
CREATED:20240906T090755Z
LAST-MODIFIED:20250527T091338Z
UID:10004754-1790006400-1790013600@mnw-dd.de
SUMMARY:Papa Café im Familienzentrum Pauline
DESCRIPTION:Montags von 16 – 17 Uhr findet das Papa Café im Familienzentrum Pauline statt. \nNähere Informationen unter: https://pauline-dresden.de/
URL:https://mnw-dd.de/termin/papa-cafe-im-familienzentrum-pauline-3/2026-09-21
LOCATION:Familienzentrum Pauline in Gruna\, Papstdorfer Straße 41\, Dresden\, 01127\, Germany
CATEGORIES:Papada
END:VEVENT
BEGIN:VEVENT
DTSTART;TZID=Europe/Berlin:20260928T160000
DTEND;TZID=Europe/Berlin:20260928T180000
DTSTAMP:20260422T193134
CREATED:20240906T090755Z
LAST-MODIFIED:20250527T091338Z
UID:10004755-1790611200-1790618400@mnw-dd.de
SUMMARY:Papa Café im Familienzentrum Pauline
DESCRIPTION:Montags von 16 – 17 Uhr findet das Papa Café im Familienzentrum Pauline statt. \nNähere Informationen unter: https://pauline-dresden.de/
URL:https://mnw-dd.de/termin/papa-cafe-im-familienzentrum-pauline-3/2026-09-28
LOCATION:Familienzentrum Pauline in Gruna\, Papstdorfer Straße 41\, Dresden\, 01127\, Germany
CATEGORIES:Papada
END:VEVENT
BEGIN:VEVENT
DTSTART;TZID=Europe/Berlin:20261005T160000
DTEND;TZID=Europe/Berlin:20261005T180000
DTSTAMP:20260422T193134
CREATED:20240906T090755Z
LAST-MODIFIED:20250527T091338Z
UID:10000426-1791216000-1791223200@mnw-dd.de
SUMMARY:Papa Café im Familienzentrum Pauline
DESCRIPTION:Montags von 16 – 17 Uhr findet das Papa Café im Familienzentrum Pauline statt. \nNähere Informationen unter: https://pauline-dresden.de/
URL:https://mnw-dd.de/termin/papa-cafe-im-familienzentrum-pauline-3/2026-10-05
LOCATION:Familienzentrum Pauline in Gruna\, Papstdorfer Straße 41\, Dresden\, 01127\, Germany
CATEGORIES:Papada
END:VEVENT
BEGIN:VEVENT
DTSTART;TZID=Europe/Berlin:20261012T160000
DTEND;TZID=Europe/Berlin:20261012T180000
DTSTAMP:20260422T193134
CREATED:20240906T090755Z
LAST-MODIFIED:20250527T091338Z
UID:10004756-1791820800-1791828000@mnw-dd.de
SUMMARY:Papa Café im Familienzentrum Pauline
DESCRIPTION:Montags von 16 – 17 Uhr findet das Papa Café im Familienzentrum Pauline statt. \nNähere Informationen unter: https://pauline-dresden.de/
URL:https://mnw-dd.de/termin/papa-cafe-im-familienzentrum-pauline-3/2026-10-12
LOCATION:Familienzentrum Pauline in Gruna\, Papstdorfer Straße 41\, Dresden\, 01127\, Germany
CATEGORIES:Papada
END:VEVENT
BEGIN:VEVENT
DTSTART;TZID=Europe/Berlin:20261019T160000
DTEND;TZID=Europe/Berlin:20261019T180000
DTSTAMP:20260422T193134
CREATED:20240906T090755Z
LAST-MODIFIED:20250527T091338Z
UID:10004757-1792425600-1792432800@mnw-dd.de
SUMMARY:Papa Café im Familienzentrum Pauline
DESCRIPTION:Montags von 16 – 17 Uhr findet das Papa Café im Familienzentrum Pauline statt. \nNähere Informationen unter: https://pauline-dresden.de/
URL:https://mnw-dd.de/termin/papa-cafe-im-familienzentrum-pauline-3/2026-10-19
LOCATION:Familienzentrum Pauline in Gruna\, Papstdorfer Straße 41\, Dresden\, 01127\, Germany
CATEGORIES:Papada
END:VEVENT
BEGIN:VEVENT
DTSTART;TZID=Europe/Berlin:20261026T160000
DTEND;TZID=Europe/Berlin:20261026T180000
DTSTAMP:20260422T193134
CREATED:20240906T090755Z
LAST-MODIFIED:20250527T091338Z
UID:10004758-1793030400-1793037600@mnw-dd.de
SUMMARY:Papa Café im Familienzentrum Pauline
DESCRIPTION:Montags von 16 – 17 Uhr findet das Papa Café im Familienzentrum Pauline statt. \nNähere Informationen unter: https://pauline-dresden.de/
URL:https://mnw-dd.de/termin/papa-cafe-im-familienzentrum-pauline-3/2026-10-26
LOCATION:Familienzentrum Pauline in Gruna\, Papstdorfer Straße 41\, Dresden\, 01127\, Germany
CATEGORIES:Papada
END:VEVENT
BEGIN:VEVENT
DTSTART;TZID=Europe/Berlin:20261102T160000
DTEND;TZID=Europe/Berlin:20261102T180000
DTSTAMP:20260422T193134
CREATED:20240906T090755Z
LAST-MODIFIED:20250527T091338Z
UID:10000427-1793635200-1793642400@mnw-dd.de
SUMMARY:Papa Café im Familienzentrum Pauline
DESCRIPTION:Montags von 16 – 17 Uhr findet das Papa Café im Familienzentrum Pauline statt. \nNähere Informationen unter: https://pauline-dresden.de/
URL:https://mnw-dd.de/termin/papa-cafe-im-familienzentrum-pauline-3/2026-11-02
LOCATION:Familienzentrum Pauline in Gruna\, Papstdorfer Straße 41\, Dresden\, 01127\, Germany
CATEGORIES:Papada
END:VEVENT
BEGIN:VEVENT
DTSTART;TZID=Europe/Berlin:20261109T160000
DTEND;TZID=Europe/Berlin:20261109T180000
DTSTAMP:20260422T193134
CREATED:20240906T090755Z
LAST-MODIFIED:20250527T091338Z
UID:10004759-1794240000-1794247200@mnw-dd.de
SUMMARY:Papa Café im Familienzentrum Pauline
DESCRIPTION:Montags von 16 – 17 Uhr findet das Papa Café im Familienzentrum Pauline statt. \nNähere Informationen unter: https://pauline-dresden.de/
URL:https://mnw-dd.de/termin/papa-cafe-im-familienzentrum-pauline-3/2026-11-09
LOCATION:Familienzentrum Pauline in Gruna\, Papstdorfer Straße 41\, Dresden\, 01127\, Germany
CATEGORIES:Papada
END:VEVENT
BEGIN:VEVENT
DTSTART;TZID=Europe/Berlin:20261116T160000
DTEND;TZID=Europe/Berlin:20261116T180000
DTSTAMP:20260422T193134
CREATED:20240906T090755Z
LAST-MODIFIED:20250527T091338Z
UID:10004760-1794844800-1794852000@mnw-dd.de
SUMMARY:Papa Café im Familienzentrum Pauline
DESCRIPTION:Montags von 16 – 17 Uhr findet das Papa Café im Familienzentrum Pauline statt. \nNähere Informationen unter: https://pauline-dresden.de/
URL:https://mnw-dd.de/termin/papa-cafe-im-familienzentrum-pauline-3/2026-11-16
LOCATION:Familienzentrum Pauline in Gruna\, Papstdorfer Straße 41\, Dresden\, 01127\, Germany
CATEGORIES:Papada
END:VEVENT
END:VCALENDAR